BEGIN:VCALENDAR
VERSION:2.0
PRODID:-//LifeChurch - ECPv4.7.4//NONSGML v1.0//EN
CALSCALE:GREGORIAN
METHOD:PUBLISH
X-WR-CALNAME:LifeChurch
X-ORIGINAL-URL:https://life-church.org.au
X-WR-CALDESC:Events for LifeChurch
BEGIN:VEVENT
DTSTART;TZID=Australia/Brisbane:20190419T090000
DTEND;TZID=Australia/Brisbane:20190421T100000
DTSTAMP:20190222T065922
CREATED:20190125T011908Z
LAST-MODIFIED:20190125T011908Z
UID:2179-1555664400-1555840800@life-church.org.au
SUMMARY:EASTER EXPERIENCE
DESCRIPTION:Join us as we walk through the two most significant events in the history of the world… \n9am Good Friday Service \n10am Easter Sunday Service \n
URL:https://life-church.org.au/event/easter-experience/
CATEGORIES:Community,Life Chuch
ATTACH;FMTTYPE=image/jpeg:https://life-church.org.au/wp-content/uploads/2019/01/Easter-2019.jpg
END:VEVENT
END:VCALENDAR