BEGIN:VCALENDAR
VERSION:2.0
PRODID:-//LifeChurch - ECPv6.8.3//NONSGML v1.0//EN
CALSCALE:GREGORIAN
METHOD:PUBLISH
X-WR-CALNAME:LifeChurch
X-ORIGINAL-URL:https://life-church.org.au
X-WR-CALDESC:Events for LifeChurch
REFRESH-INTERVAL;VALUE=DURATION:PT1H
X-Robots-Tag:noindex
X-PUBLISHED-TTL:PT1H
BEGIN:VTIMEZONE
TZID:Australia/Brisbane
BEGIN:STANDARD
TZOFFSETFROM:+1000
TZOFFSETTO:+1000
TZNAME:AEST
DTSTART:20190101T000000
END:STANDARD
TZID:Australia/Melbourne
BEGIN:STANDARD
TZOFFSETFROM:+1100
TZOFFSETTO:+1000
TZNAME:AEST
DTSTART:20180331T160000
END:STANDARD
BEGIN:DAYLIGHT
TZOFFSETFROM:+1000
TZOFFSETTO:+1100
TZNAME:AEDT
DTSTART:20181006T160000
END:DAYLIGHT
END:VTIMEZONE
BEGIN:VEVENT
DTSTART;TZID=Australia/Brisbane:20190421T110000
DTEND;TZID=Australia/Brisbane:20190421T113000
DTSTAMP:20260422T200515
CREATED:20190322T010252Z
LAST-MODIFIED:20190322T010338Z
UID:2194-1555844400-1555846200@life-church.org.au
SUMMARY:EASTER EGG HUNT
DESCRIPTION:Join us after our Easter Sunday Service for a FREE family Easter Egg Hunt!
URL:https://life-church.org.au/event/easter-egg-hunt/
LOCATION:LifeChurch Maryborough\, 68 Gayndah Rd\, Maryborough West\, QLD\, 4650\, Australia
CATEGORIES:Community,Food,Life Chuch
ATTACH;FMTTYPE=image/jpeg:https://life-church.org.au/wp-content/uploads/2019/03/slide-02.jpg
END:VEVENT
BEGIN:VEVENT
DTSTART;TZID=Australia/Brisbane:20190419T090000
DTEND;TZID=Australia/Brisbane:20190421T100000
DTSTAMP:20260422T200515
CREATED:20190125T011908Z
LAST-MODIFIED:20190125T011908Z
UID:2179-1555664400-1555840800@life-church.org.au
SUMMARY:EASTER EXPERIENCE
DESCRIPTION:Join us as we walk through the two most significant events in the history of the world… \n9am Good Friday Service \n10am Easter Sunday Service
URL:https://life-church.org.au/event/easter-experience/
CATEGORIES:Community,Life Chuch
ATTACH;FMTTYPE=image/jpeg:https://life-church.org.au/wp-content/uploads/2019/01/Easter-2019.jpg
END:VEVENT
BEGIN:VEVENT
DTSTART;TZID=Australia/Melbourne:20180928T100000
DTEND;TZID=Australia/Melbourne:20180928T110000
DTSTAMP:20260422T200515
CREATED:20180911T062705Z
LAST-MODIFIED:20180911T062928Z
UID:2107-1538128800-1538132400@life-church.org.au
SUMMARY:National Police Remembrance Day
DESCRIPTION:In his role as the Police Chaplain\, Pastor Rob will lead the NPRD Service hosted at LifeChurch. Police and their families from around the Fraser Coast will come together to remember those officers whose lives were lost in their service of their community. \nThis service is open for all who wish to attend and honour those who have served us so well. \n 
URL:https://life-church.org.au/event/national-police-remembrance-day/
LOCATION:LifeChurch Maryborough\, 68 Gayndah Rd\, Maryborough West\, QLD\, 4650\, Australia
CATEGORIES:Community
ATTACH;FMTTYPE=image/jpeg:https://life-church.org.au/wp-content/uploads/2018/09/Screen-Shot-2018-09-11-at-4.18.54-pm.jpg
END:VEVENT
BEGIN:VEVENT
DTSTART;TZID=Australia/Melbourne:20180606T193000
DTEND;TZID=Australia/Melbourne:20180606T193000
DTSTAMP:20260422T200515
CREATED:20180531T000651Z
LAST-MODIFIED:20180531T000651Z
UID:2060-1528313400-1528313400@life-church.org.au
SUMMARY:Game 1 - State of Origin
DESCRIPTION:Join us to watch Game 1 of this years SofO clash on the Big Screen. Wear your colours and cheer on your favourite team in a ‘friendly’ atmosphere. BYO snacks and nibbles.
URL:https://life-church.org.au/event/game-1-state-of-origin/
LOCATION:LifeChurch\, 68 Gayndah Road\, Maryborough\, QLD\, 4560\, Australia
CATEGORIES:Community
ATTACH;FMTTYPE=image/jpeg:https://life-church.org.au/wp-content/uploads/2018/05/State-of-Origin-2016.jpg
END:VEVENT
BEGIN:VEVENT
DTSTART;TZID=Australia/Melbourne:20180603T190000
DTEND;TZID=Australia/Melbourne:20180603T190000
DTSTAMP:20260422T200515
CREATED:20180501T055544Z
LAST-MODIFIED:20180501T065050Z
UID:2048-1528052400-1528052400@life-church.org.au
SUMMARY:Combined Churches Worship Service
DESCRIPTION:Come and be a part of worshiping together with the churches of Maryborough! This will be a special time of worship and prayer hosted by the Maryborough Minister’s Fellowship.\nHighlights include the Salvation Army Big Band & The Combined Churches Choir & Worship Team.
URL:https://life-church.org.au/event/combined-churches-worship-service/
LOCATION:LifeChurch\, 68 Gayndah Road\, Maryborough\, QLD\, 4560\, Australia
CATEGORIES:Community
ATTACH;FMTTYPE=image/jpeg:https://life-church.org.au/wp-content/uploads/2018/05/Screen-Shot-2018-04-26-at-11.48.02-am.jpg
END:VEVENT
END:VCALENDAR