BEGIN:VCALENDAR
VERSION:2.0
PRODID:-//LifeChurch - ECPv6.8.3//NONSGML v1.0//EN
CALSCALE:GREGORIAN
METHOD:PUBLISH
X-WR-CALNAME:LifeChurch
X-ORIGINAL-URL:https://life-church.org.au
X-WR-CALDESC:Events for LifeChurch
REFRESH-INTERVAL;VALUE=DURATION:PT1H
X-Robots-Tag:noindex
X-PUBLISHED-TTL:PT1H
BEGIN:VTIMEZONE
TZID:Australia/Brisbane
BEGIN:STANDARD
TZOFFSETFROM:+1000
TZOFFSETTO:+1000
TZNAME:AEST
DTSTART:20190101T000000
END:STANDARD
END:VTIMEZONE
BEGIN:VEVENT
DTSTART;TZID=Australia/Brisbane:20200906T080000
DTEND;TZID=Australia/Brisbane:20200906T120000
DTSTAMP:20260422T134834
CREATED:20200903T062406Z
LAST-MODIFIED:20200903T062905Z
UID:2488-1599379200-1599393600@life-church.org.au
SUMMARY:Father's Day 2020!
DESCRIPTION:Father’s Day is this Sunday! How are YOU going to show a dad in your life how much you appreciate him? Go ahead and bring him along on Sunday for a special treat!\nAlso don’t forget that you can donate to the Mission Aviation Fellowship in honour of your dad’s gift this year!
URL:https://life-church.org.au/event/fathers-day-2020/
LOCATION:LifeChurch Maryborough\, 68 Gayndah Rd\, Maryborough West\, QLD\, 4650\, Australia
CATEGORIES:Children,Community,Family,Music,Prayer,Worship
ATTACH;FMTTYPE=image/jpeg:https://life-church.org.au/wp-content/uploads/2020/09/happy-Fathers-Day-2020.jpg
END:VEVENT
BEGIN:VEVENT
DTSTART;TZID=Australia/Brisbane:20200904T190000
DTEND;TZID=Australia/Brisbane:20200904T210000
DTSTAMP:20260422T134834
CREATED:20200721T021946Z
LAST-MODIFIED:20200721T021946Z
UID:2460-1599246000-1599253200@life-church.org.au
SUMMARY:iGNiTE! //Bonfire\\ Friday 7pm
DESCRIPTION:Grades 7-12! 7pm – 9pm! All are Welcome! Click “Find out more” to see the Term Planner! \nIgnite is back on and IN – PERSON Every Friday during School Term!  This Term\, we have some fun and exciting activities planned\, as well as an awesome message each week from Pastor Caleb!  We can’t wait to see you! \n \n 
URL:https://life-church.org.au/event/ignite-bonfire-friday-7pm/
LOCATION:LifeChurch\, 68 Gayndah Road\, Maryborough\, QLD\, 4560\, Australia
CATEGORIES:Community,Youth
ATTACH;FMTTYPE=image/jpeg:https://life-church.org.au/wp-content/uploads/2020/04/1.jpg
END:VEVENT
BEGIN:VEVENT
DTSTART;TZID=Australia/Brisbane:20200828T190000
DTEND;TZID=Australia/Brisbane:20200828T210000
DTSTAMP:20260422T134834
CREATED:20200721T021822Z
LAST-MODIFIED:20200721T021822Z
UID:2458-1598641200-1598648400@life-church.org.au
SUMMARY:iGNiTE! //Gong Show\\ Friday 7pm
DESCRIPTION:Grades 7-12! 7pm – 9pm! All are Welcome! Click “Find out more” to see the Term Planner! \nIgnite is back on and IN – PERSON Every Friday during School Term!  This Term\, we have some fun and exciting activities planned\, as well as an awesome message each week from Pastor Caleb!  We can’t wait to see you! \n \n 
URL:https://life-church.org.au/event/ignite-gong-show-friday-7pm/
LOCATION:LifeChurch\, 68 Gayndah Road\, Maryborough\, QLD\, 4560\, Australia
CATEGORIES:Community,Youth
ATTACH;FMTTYPE=image/jpeg:https://life-church.org.au/wp-content/uploads/2020/04/1.jpg
END:VEVENT
BEGIN:VEVENT
DTSTART;TZID=Australia/Brisbane:20200821T190000
DTEND;TZID=Australia/Brisbane:20200821T210000
DTSTAMP:20260422T134834
CREATED:20200721T021659Z
LAST-MODIFIED:20200721T021659Z
UID:2456-1598036400-1598043600@life-church.org.au
SUMMARY:iGNiTE! //"A" Night\\ Friday 7pm
DESCRIPTION:Grades 7-12! 7pm – 9pm! All are Welcome! Click “Find out more” to see the Term Planner! \nIgnite is back on and IN – PERSON Every Friday during School Term!  This Term\, we have some fun and exciting activities planned\, as well as an awesome message each week from Pastor Caleb!  We can’t wait to see you! \n \n 
URL:https://life-church.org.au/event/ignite-a-night-friday-7pm/
LOCATION:LifeChurch\, 68 Gayndah Road\, Maryborough\, QLD\, 4560\, Australia
CATEGORIES:Community,Youth
ATTACH;FMTTYPE=image/jpeg:https://life-church.org.au/wp-content/uploads/2020/04/1.jpg
END:VEVENT
BEGIN:VEVENT
DTSTART;TZID=Australia/Brisbane:20200814T190000
DTEND;TZID=Australia/Brisbane:20200814T210000
DTSTAMP:20260422T134834
CREATED:20200721T021557Z
LAST-MODIFIED:20200721T021557Z
UID:2454-1597431600-1597438800@life-church.org.au
SUMMARY:iGNiTE! //Minute to Win It\\ Friday 7pm
DESCRIPTION:Grades 7-12! 7pm – 9pm! All are Welcome! Click “Find out more” to see the Term Planner! \nIgnite is back on and IN – PERSON Every Friday during School Term!  This Term\, we have some fun and exciting activities planned\, as well as an awesome message each week from Pastor Caleb!  We can’t wait to see you! \n \n 
URL:https://life-church.org.au/event/ignite-minute-to-win-it-friday-7pm/
LOCATION:LifeChurch\, 68 Gayndah Road\, Maryborough\, QLD\, 4560\, Australia
CATEGORIES:Community,Youth
ATTACH;FMTTYPE=image/jpeg:https://life-church.org.au/wp-content/uploads/2020/04/1.jpg
END:VEVENT
BEGIN:VEVENT
DTSTART;TZID=Australia/Brisbane:20200807T190000
DTEND;TZID=Australia/Brisbane:20200807T210000
DTSTAMP:20260422T134834
CREATED:20200721T021345Z
LAST-MODIFIED:20200721T021437Z
UID:2451-1596826800-1596834000@life-church.org.au
SUMMARY:iGNiTE! //Noche Fiesta\\ Friday 7pm
DESCRIPTION:Grades 7-12! 7pm – 9pm! All are Welcome! Click “Find out more” to see the Term Planner! \nIgnite is back on and IN – PERSON Every Friday during School Term!  This Term\, we have some fun and exciting activities planned\, as well as an awesome message each week from Pastor Caleb!  We can’t wait to see you! \n \n 
URL:https://life-church.org.au/event/ignite-noche-fiesta-friday-7pm/
LOCATION:LifeChurch\, 68 Gayndah Road\, Maryborough\, QLD\, 4560\, Australia
CATEGORIES:Community,Youth
ATTACH;FMTTYPE=image/jpeg:https://life-church.org.au/wp-content/uploads/2020/04/1.jpg
END:VEVENT
BEGIN:VEVENT
DTSTART;TZID=Australia/Brisbane:20200802T113000
DTEND;TZID=Australia/Brisbane:20200802T123000
DTSTAMP:20260422T134834
CREATED:20200721T040803Z
LAST-MODIFIED:20200721T040803Z
UID:2471-1596367800-1596371400@life-church.org.au
SUMMARY:AGM // No Fellowship Lunch
DESCRIPTION:All are welcome to attend!
URL:https://life-church.org.au/event/agm-no-fellowship-lunch/
LOCATION:LifeChurch\, 68 Gayndah Road\, Maryborough\, QLD\, 4560\, Australia
CATEGORIES:Community
ATTACH;FMTTYPE=image/jpeg:https://life-church.org.au/wp-content/uploads/2020/07/AGM.jpg
END:VEVENT
BEGIN:VEVENT
DTSTART;TZID=Australia/Brisbane:20200802T100000
DTEND;TZID=Australia/Brisbane:20200802T113000
DTSTAMP:20260422T134834
CREATED:20200721T040543Z
LAST-MODIFIED:20200721T040543Z
UID:2469-1596362400-1596367800@life-church.org.au
SUMMARY:Sunday (LifeKids + Morning Service + Prayer&Worship)
DESCRIPTION:Every Sunday during a School Term\, we have our Kids Program “LifeKids” @ 8:45a-10a \nWe have our Worship Service Every Sunday of the year @ 10a-11:30a. \n@ 6pm\, we hope to see you back at the church for our 1st Sunday of the Month Prayer & Worship Service! We are so excited to start doing these again as another way of coming back together!
URL:https://life-church.org.au/event/sunday-lifekids-morning-service-prayerworship/
LOCATION:LifeChurch\, 68 Gayndah Road\, Maryborough\, QLD\, 4560\, Australia
CATEGORIES:Children,Community,Family,Music,Outreach,Prayer,Worship,Youth
ATTACH;FMTTYPE=image/jpeg:https://life-church.org.au/wp-content/uploads/2020/07/Welcome-Back-1.jpg
END:VEVENT
BEGIN:VEVENT
DTSTART;TZID=Australia/Brisbane:20200731T190000
DTEND;TZID=Australia/Brisbane:20200731T210000
DTSTAMP:20260422T134834
CREATED:20200721T021159Z
LAST-MODIFIED:20200721T021159Z
UID:2448-1596222000-1596229200@life-church.org.au
SUMMARY:iGNiTE! //Underground Church\\ Friday 7pm
DESCRIPTION:Grades 7-12! 7pm – 9pm! All are Welcome! Click “Find out more” to see the Term Planner! \nIgnite is back on and IN – PERSON Every Friday during School Term!  This Term\, we have some fun and exciting activities planned\, as well as an awesome message each week from Pastor Caleb!  We can’t wait to see you! \n \n 
URL:https://life-church.org.au/event/ignite-underground-church-friday-7pm/
LOCATION:LifeChurch\, 68 Gayndah Road\, Maryborough\, QLD\, 4560\, Australia
CATEGORIES:Community,Youth
ATTACH;FMTTYPE=image/jpeg:https://life-church.org.au/wp-content/uploads/2020/04/1.jpg
END:VEVENT
BEGIN:VEVENT
DTSTART;TZID=Australia/Brisbane:20200726T100000
DTEND;TZID=Australia/Brisbane:20200726T113000
DTSTAMP:20260422T134834
CREATED:20200721T022647Z
LAST-MODIFIED:20200721T040204Z
UID:2466-1595757600-1595763000@life-church.org.au
SUMMARY:Sunday (LifeKids + Service)
DESCRIPTION:Every Sunday during a School Term\, we have our Kids Program “LifeKids” @ 8:45a-10a \nWe have our Worship Service Every Sunday of the year @ 10a-11:30a
URL:https://life-church.org.au/event/sunday-lifekids-service/
LOCATION:LifeChurch\, 68 Gayndah Road\, Maryborough\, QLD\, 4560\, Australia
CATEGORIES:Children,Community,Family,Music,Outreach,Prayer,Worship,Youth
ATTACH;FMTTYPE=image/jpeg:https://life-church.org.au/wp-content/uploads/2020/07/Welcome-Back-1.jpg
END:VEVENT
BEGIN:VEVENT
DTSTART;TZID=Australia/Brisbane:20200724T190000
DTEND;TZID=Australia/Brisbane:20200724T210000
DTSTAMP:20260422T134834
CREATED:20200721T020417Z
LAST-MODIFIED:20200721T021240Z
UID:2441-1595617200-1595624400@life-church.org.au
SUMMARY:iGNiTE! //Christmas in July\\ Friday 7pm
DESCRIPTION:Grades 7-12! 7pm – 9pm! All are Welcome! Click “Find out more” to see the Term Planner! \nIgnite is back on and IN – PERSON Every Friday during School Term!  This Term\, we have some fun and exciting activities planned\, as well as an awesome message each week from Pastor Caleb!  We can’t wait to see you! \n \n 
URL:https://life-church.org.au/event/ignite-every-friday-7pm/
LOCATION:LifeChurch\, 68 Gayndah Road\, Maryborough\, QLD\, 4560\, Australia
CATEGORIES:Community,Youth
ATTACH;FMTTYPE=image/jpeg:https://life-church.org.au/wp-content/uploads/2020/04/1.jpg
END:VEVENT
BEGIN:VEVENT
DTSTART;TZID=Australia/Brisbane:20200618T190000
DTEND;TZID=Australia/Brisbane:20200618T200000
DTSTAMP:20260422T134834
CREATED:20200414T045340Z
LAST-MODIFIED:20200527T050533Z
UID:2398-1592506800-1592510400@life-church.org.au
SUMMARY:Thursday Worship Night
DESCRIPTION:Join Caleb and Grace “in their home” on Thursday evenings as they worship God in the midst of all the crazy.  Grab a Bible and a journal and use this time to be in the presence of the Lord- whether you need to read\, write\, sing\, or listen quietly\, this is a space where you can freely worship the Lord and dwell in the peace of His presence. \nJoin us through the link below to the right\, we will be on Facebook\, but if you don’t have Facebook -never fear!- by clicking the link on the right\, you can still join in the video!
URL:https://life-church.org.au/event/thursday-worship-night-3/
LOCATION:@ Your Place
CATEGORIES:Community,Family,Music,Prayer,Worship
ATTACH;FMTTYPE=image/png:https://life-church.org.au/wp-content/uploads/2020/04/Thursday.png
END:VEVENT
BEGIN:VEVENT
DTSTART;TZID=Australia/Brisbane:20200617T190000
DTEND;TZID=Australia/Brisbane:20200617T193000
DTSTAMP:20260422T134834
CREATED:20200412T015534Z
LAST-MODIFIED:20200527T050406Z
UID:2387-1592420400-1592422200@life-church.org.au
SUMMARY:Wednesday Online Prayer Meeting
DESCRIPTION:Come with us to the feet of Jesus as we pray for our world\, our communities and our families every Wednesday evening at 7:00-7:30pm. \nJoin us on FB Live or Youtube or right here on our Website! The link is down on the right to take you straight to our watch page. at that link\, you’ll be able to scroll down to find our youtube link\, and our facebook page link.  We would love for you to join in prayer with our church family!
URL:https://life-church.org.au/event/wednesday-online-prayer-meeting-3/
LOCATION:@ Your Place
CATEGORIES:Community,Family,Prayer
ATTACH;FMTTYPE=image/jpeg:https://life-church.org.au/wp-content/uploads/2018/02/Prayer-Service.jpg
END:VEVENT
BEGIN:VEVENT
DTSTART;TZID=Australia/Brisbane:20200616T190000
DTEND;TZID=Australia/Brisbane:20200616T210000
DTSTAMP:20260422T134834
CREATED:20200407T071454Z
LAST-MODIFIED:20200527T045734Z
UID:2381-1592334000-1592341200@life-church.org.au
SUMMARY:LifeGroups
DESCRIPTION:No matter the season\, LifeGroups are vital to the lifeblood of our church family.  Groups meet together (through group video call) halfway through the week to check in\, talk about the sermon on the past Sunday\, and to pray for one another. \nMany LifeGroups meet on a Tuesday Evening (with the exception of a few that meet on better suiting days/times for the group.)  If you are not plugged into a group\, or for some reason your group is not able to meet at this time\, consider joining in a group!  Contact Pastor Merryl for information on different LifeGroups for possible fits for you! \nMany groups are utilizing Zoom Meetings as their avenue for community.  If your group has stopped meeting\, but you feel like you could help get a Zoom Meeting set up for your Group\, contact Merryl to see how you can make this happen!
URL:https://life-church.org.au/event/lifegroups-4/
LOCATION:@ Your Place
CATEGORIES:Community,Prayer
ATTACH;FMTTYPE=image/jpeg:https://life-church.org.au/wp-content/uploads/2018/02/LifeGroupBGR.jpeg
END:VEVENT
BEGIN:VEVENT
DTSTART;TZID=Australia/Brisbane:20200614T100000
DTEND;TZID=Australia/Brisbane:20200614T113000
DTSTAMP:20260422T134834
CREATED:20200407T063005Z
LAST-MODIFIED:20200527T045636Z
UID:2368-1592128800-1592134200@life-church.org.au
SUMMARY:Sunday 10am Online Service
DESCRIPTION:LifeChurch Live @ Your Place! \nJoin us every Sunday on our Facebook Page “LifeChurch – Maryborough” or Youtube channel “LifeChurch Maryborough” for the service\, or follow the link below on your smartphone/tablet/laptop/desktop/tv to make sure you don’t miss anything! \nwww.life-church.org.au/watch
URL:https://life-church.org.au/event/sunday-10am-online-service-2/
LOCATION:@ Your Place
CATEGORIES:Children,Community,Family,Music,Prayer,Youth
ATTACH;FMTTYPE=image/jpeg:https://life-church.org.au/wp-content/uploads/2018/01/RobPreachBGR.jpg
END:VEVENT
BEGIN:VEVENT
DTSTART;TZID=Australia/Brisbane:20200611T190000
DTEND;TZID=Australia/Brisbane:20200611T200000
DTSTAMP:20260422T134834
CREATED:20200414T045544Z
LAST-MODIFIED:20200527T045444Z
UID:2400-1591902000-1591905600@life-church.org.au
SUMMARY:Thursday Worship Night
DESCRIPTION:Join Caleb and Grace “in their home” on Thursday evenings as they worship God in the midst of all the crazy.  Grab a Bible and a journal and use this time to be in the presence of the Lord- whether you need to read\, write\, sing\, or listen quietly\, this is a space where you can freely worship the Lord and dwell in the peace of His presence. \nJoin us through the link below to the right\, we will be on Facebook\, but if you don’t have Facebook -never fear!- by clicking the link on the right\, you can still join in the video!
URL:https://life-church.org.au/event/thursday-worship-night-4/
LOCATION:@ Your Place
CATEGORIES:Community,Family,Music,Prayer,Worship
ATTACH;FMTTYPE=image/png:https://life-church.org.au/wp-content/uploads/2020/04/Thursday.png
END:VEVENT
BEGIN:VEVENT
DTSTART;TZID=Australia/Brisbane:20200610T190000
DTEND;TZID=Australia/Brisbane:20200610T193000
DTSTAMP:20260422T134834
CREATED:20200414T034604Z
LAST-MODIFIED:20200527T044943Z
UID:2390-1591815600-1591817400@life-church.org.au
SUMMARY:Wednesday Online Prayer Meeting
DESCRIPTION:Come with us to the feet of Jesus as we pray for our world\, our communities and our families every Wednesday evening at 7:00-7:30pm. \nJoin us on FB Live or Youtube or right here on our Website! The link is down on the right to take you straight to our watch page. at that link\, you’ll be able to scroll down to find our youtube link\, and our facebook page link.  We would love for you to join in prayer with our church family!
URL:https://life-church.org.au/event/wednesday-online-prayer-meeting-4/
LOCATION:@ Your Place
CATEGORIES:Community,Family,Prayer
ATTACH;FMTTYPE=image/jpeg:https://life-church.org.au/wp-content/uploads/2018/02/Prayer-Service.jpg
END:VEVENT
BEGIN:VEVENT
DTSTART;TZID=Australia/Brisbane:20200609T190000
DTEND;TZID=Australia/Brisbane:20200609T210000
DTSTAMP:20260422T134834
CREATED:20200407T065858Z
LAST-MODIFIED:20200527T044857Z
UID:2374-1591729200-1591736400@life-church.org.au
SUMMARY:LifeGroups
DESCRIPTION:No matter the season\, LifeGroups are vital to the lifeblood of our church family.  Groups meet together (through group video call) halfway through the week to check in\, talk about the sermon on the past Sunday\, and to pray for one another. \nMany LifeGroups meet on a Tuesday Evening (with the exception of a few that meet on better suiting days/times for the group.)  If you are not plugged into a group\, or for some reason your group is not able to meet at this time\, consider joining in a group!  Contact Pastor Merryl for information on different LifeGroups for possible fits for you! \nMany groups are utilizing Zoom Meetings as their avenue for community.  If your group has stopped meeting\, but you feel like you could help get a Zoom Meeting set up for your Group\, contact Merryl to see how you can make this happen!
URL:https://life-church.org.au/event/lifegroups/
LOCATION:@ Your Place
CATEGORIES:Community,Prayer
ATTACH;FMTTYPE=image/jpeg:https://life-church.org.au/wp-content/uploads/2017/12/LifeGroupBGR.jpeg
END:VEVENT
BEGIN:VEVENT
DTSTART;TZID=Australia/Brisbane:20200607T100000
DTEND;TZID=Australia/Brisbane:20200607T113000
DTSTAMP:20260422T134834
CREATED:20200407T062108Z
LAST-MODIFIED:20200527T043819Z
UID:2363-1591524000-1591529400@life-church.org.au
SUMMARY:Sunday 10am Online Service
DESCRIPTION:LifeChurch Live @ Your Place! \nJoin us every Sunday on our Facebook Page “LifeChurch – Maryborough” or Youtube channel “LifeChurch Maryborough” for the service\, or follow the link below on your smartphone/tablet/laptop/desktop/tv to make sure you don’t miss anything! \nwww.life-church.org.au/watch
URL:https://life-church.org.au/event/sunday-10am-service/
LOCATION:@ Your Place
CATEGORIES:Children,Community,Music,Prayer,Worship,Youth
ATTACH;FMTTYPE=image/jpeg:https://life-church.org.au/wp-content/uploads/2018/01/RobPreachBGR.jpg
END:VEVENT
BEGIN:VEVENT
DTSTART;TZID=Australia/Brisbane:20200604T190000
DTEND;TZID=Australia/Brisbane:20200604T200000
DTSTAMP:20260422T134834
CREATED:20200414T043316Z
LAST-MODIFIED:20200527T044600Z
UID:2393-1591297200-1591300800@life-church.org.au
SUMMARY:Thursday Night Worship
DESCRIPTION:Join Caleb and Grace “in their home” on Thursday evenings as they worship God in the midst of all the crazy.  Grab a Bible and a journal and use this time to be in the presence of the Lord- whether you need to read\, write\, sing\, or listen quietly\, this is a space where you can freely worship the Lord and dwell in the peace of His presence. \nJoin us through the link below to the right\, we will be on Facebook\, but if you don’t have Facebook -never fear!- by clicking the link on the right\, you can still join in the video!
URL:https://life-church.org.au/event/thursday-worship-night/
LOCATION:@ Your Place
CATEGORIES:Community,Family,Music,Prayer,Worship
ATTACH;FMTTYPE=image/png:https://life-church.org.au/wp-content/uploads/2020/04/Thursday.png
END:VEVENT
BEGIN:VEVENT
DTSTART;TZID=Australia/Brisbane:20200603T190000
DTEND;TZID=Australia/Brisbane:20200603T193000
DTSTAMP:20260422T134834
CREATED:20200412T015141Z
LAST-MODIFIED:20200527T044748Z
UID:2383-1591210800-1591212600@life-church.org.au
SUMMARY:Wednesday Online Prayer Meeting
DESCRIPTION:Come with us to the feet of Jesus as we pray for our world\, our communities and our families every Wednesday evening at 7:00-7:30pm. \nJoin us on FB Live or Youtube or right here on our Website! The link is down on the right to take you straight to our watch page. at that link\, you’ll be able to scroll down to find our youtube link\, and our facebook page link.  We would love for you to join in prayer with our church family!
URL:https://life-church.org.au/event/wednesday-online-prayer-meeting/
LOCATION:@ Your Place
CATEGORIES:Community,Family,Prayer
ATTACH;FMTTYPE=image/jpeg:https://life-church.org.au/wp-content/uploads/2018/02/Prayer-Service.jpg
END:VEVENT
BEGIN:VEVENT
DTSTART;TZID=Australia/Brisbane:20200602T190000
DTEND;TZID=Australia/Brisbane:20200602T210000
DTSTAMP:20260422T134834
CREATED:20200407T070517Z
LAST-MODIFIED:20200527T043624Z
UID:2377-1591124400-1591131600@life-church.org.au
SUMMARY:LifeGroups
DESCRIPTION:No matter the season\, LifeGroups are vital to the lifeblood of our church family.  Groups meet together (through group video call) halfway through the week to check in\, talk about the sermon on the past Sunday\, and to pray for one another. \nMany LifeGroups meet on a Tuesday Evening (with the exception of a few that meet on better suiting days/times for the group.)  If you are not plugged into a group\, or for some reason your group is not able to meet at this time\, consider joining in a group!  Contact Pastor Merryl for information on different LifeGroups for possible fits for you! \nMany groups are utilizing Zoom Meetings as their avenue for community.  If your group has stopped meeting\, but you feel like you could help get a Zoom Meeting set up for your Group\, contact Merryl to see how you can make this happen!
URL:https://life-church.org.au/event/lifegroups-2/
LOCATION:@ Your Place
CATEGORIES:Community,Prayer
ATTACH;FMTTYPE=image/jpeg:https://life-church.org.au/wp-content/uploads/2018/02/LifeGroupBGR.jpeg
END:VEVENT
BEGIN:VEVENT
DTSTART;TZID=Australia/Brisbane:20200531T100000
DTEND;TZID=Australia/Brisbane:20200531T113000
DTSTAMP:20260422T134834
CREATED:20200407T062528Z
LAST-MODIFIED:20200527T043046Z
UID:2366-1590919200-1590924600@life-church.org.au
SUMMARY:Sunday 10am Online Service
DESCRIPTION:LifeChurch Live @ Your Place! \nJoin us every Sunday on our Facebook Page “LifeChurch – Maryborough” or Youtube channel “LifeChurch Maryborough” for the service\, or follow the link below on your smartphone/tablet/laptop/desktop/tv to make sure you don’t miss anything! \nwww.life-church.org.au/watch
URL:https://life-church.org.au/event/sunday-10am-online-service/
LOCATION:@ Your Place
CATEGORIES:Children,Community,Family,Music,Prayer,Youth
ATTACH;FMTTYPE=image/jpeg:https://life-church.org.au/wp-content/uploads/2018/01/RobPreachBGR.jpg
END:VEVENT
BEGIN:VEVENT
DTSTART;TZID=Australia/Brisbane:20200528T190000
DTEND;TZID=Australia/Brisbane:20200528T200000
DTSTAMP:20260422T134834
CREATED:20200414T043525Z
LAST-MODIFIED:20200527T043334Z
UID:2396-1590692400-1590696000@life-church.org.au
SUMMARY:Thursday Worship Night
DESCRIPTION:Join Caleb and Grace “in their home” on Thursday evenings as they worship God in the midst of all the crazy.  Grab a Bible and a journal and use this time to be in the presence of the Lord- whether you need to read\, write\, sing\, or listen quietly\, this is a space where you can freely worship the Lord and dwell in the peace of His presence. \nJoin us through the link below to the right\, we will be on Facebook\, but if you don’t have Facebook -never fear!- by clicking the link on the right\, you can still join in the video!
URL:https://life-church.org.au/event/thursday-worship-night-2/
LOCATION:@ Your Place
CATEGORIES:Community,Family,Music,Prayer,Worship
ATTACH;FMTTYPE=image/png:https://life-church.org.au/wp-content/uploads/2020/04/Thursday.png
END:VEVENT
BEGIN:VEVENT
DTSTART;TZID=Australia/Brisbane:20200527T190000
DTEND;TZID=Australia/Brisbane:20200527T193000
DTSTAMP:20260422T134834
CREATED:20200412T015355Z
LAST-MODIFIED:20200527T043507Z
UID:2385-1590606000-1590607800@life-church.org.au
SUMMARY:Wednesday Online Prayer Meeting
DESCRIPTION:Come with us to the feet of Jesus as we pray for our world\, our communities and our families every Wednesday evening at 7:00-7:30pm. \nJoin us on FB Live or Youtube or right here on our Website! The link is down on the right to take you straight to our watch page. at that link\, you’ll be able to scroll down to find our youtube link\, and our facebook page link.  We would love for you to join in prayer with our church family!
URL:https://life-church.org.au/event/wednesday-online-prayer-meeting-2/
LOCATION:@ Your Place
CATEGORIES:Community,Family,Prayer
ATTACH;FMTTYPE=image/jpeg:https://life-church.org.au/wp-content/uploads/2018/02/Prayer-Service.jpg
END:VEVENT
BEGIN:VEVENT
DTSTART;TZID=Australia/Brisbane:20200105T100000
DTEND;TZID=Australia/Brisbane:20200202T100000
DTSTAMP:20260422T134834
CREATED:20190423T022716Z
LAST-MODIFIED:20200103T065230Z
UID:2210-1578218400-1580637600@life-church.org.au
SUMMARY:Current Teaching Series: It's All About JESUS
DESCRIPTION:Christmas is over\, so now what? Is that all there is to Jesus? Do we forget about Him until Easter? No! The Christian life is all about Jesus! \nJoin us as we discover who Jesus is and why that matters.
URL:https://life-church.org.au/event/current-teaching-series-then-sings-my-soul/
LOCATION:LifeChurch Maryborough\, 68 Gayndah Rd\, Maryborough West\, QLD\, 4650\, Australia
CATEGORIES:Children,Community,Life Chuch
ATTACH;FMTTYPE=image/jpeg:https://life-church.org.au/wp-content/uploads/2019/04/Screen-Shot-2020-01-03-at-3.25.58-pm.jpg
END:VEVENT
BEGIN:VEVENT
DTSTART;TZID=Australia/Brisbane:20191225T090000
DTEND;TZID=Australia/Brisbane:20191225T220000
DTSTAMP:20260422T134834
CREATED:20191217T061142Z
LAST-MODIFIED:20191217T061142Z
UID:2278-1577264400-1577311200@life-church.org.au
SUMMARY:Christmas Day Service
DESCRIPTION:Join us 9am Christmas Day as celebrate the birth of our Saviour and Lord Jesus Christ.
URL:https://life-church.org.au/event/christmas-day-service-2/
LOCATION:LifeChurch Maryborough\, 68 Gayndah Rd\, Maryborough West\, QLD\, 4650\, Australia
CATEGORIES:Community,Life Chuch
ATTACH;FMTTYPE=image/png:https://life-church.org.au/wp-content/uploads/2019/12/Christmas-Day-Event-1.png
END:VEVENT
BEGIN:VEVENT
DTSTART;TZID=Australia/Brisbane:20191224T190000
DTEND;TZID=Australia/Brisbane:20191224T200000
DTSTAMP:20260422T134834
CREATED:20191217T060451Z
LAST-MODIFIED:20191217T060906Z
UID:2273-1577214000-1577217600@life-church.org.au
SUMMARY:Christmas Eve Service
DESCRIPTION:Join us for our special Carols-by-Candlelight Christmas Eve Service.  Come sing your favourite Christmas Carols as we prepare for Christmas Day.
URL:https://life-church.org.au/event/christmas-eve-service-2/
LOCATION:LifeChurch Maryborough\, 68 Gayndah Rd\, Maryborough West\, QLD\, 4650\, Australia
CATEGORIES:Community,Life Chuch
ATTACH;FMTTYPE=image/png:https://life-church.org.au/wp-content/uploads/2019/12/Christmas-EVe-Event-1.png
END:VEVENT
BEGIN:VEVENT
DTSTART;VALUE=DATE:20191020
DTEND;VALUE=DATE:20191125
DTSTAMP:20260422T134834
CREATED:20190708T064420Z
LAST-MODIFIED:20191018T065121Z
UID:2222-1571529600-1574639999@life-church.org.au
SUMMARY:CURRENT SERIES:  Heroes of the Faith
DESCRIPTION:Join us as we look at some unlikely heroes\, who although they faced opposition and obstacles\, had faith and were used by God in mighty ways. These are people like you and me who struggled but by the power of God\, prevailed. \n10am Sundays through October & November
URL:https://life-church.org.au/event/current-series-the-names-of-god/
LOCATION:LifeChurch Maryborough\, 68 Gayndah Rd\, Maryborough West\, QLD\, 4650\, Australia
CATEGORIES:Children,Community,Life Chuch,Women,Youth
ATTACH;FMTTYPE=image/jpeg:https://life-church.org.au/wp-content/uploads/2019/07/Heroes-of-the-faith.jpg
END:VEVENT
BEGIN:VEVENT
DTSTART;TZID=Australia/Brisbane:20190622T100000
DTEND;TZID=Australia/Brisbane:20190622T140000
DTSTAMP:20260422T134834
CREATED:20190328T122828Z
LAST-MODIFIED:20190328T122944Z
UID:2201-1561197600-1561212000@life-church.org.au
SUMMARY:DISTRICT KIDS DAY
DESCRIPTION:Join us for a day of fun.  10am-2pm  Saturday 22nd June. \nOur District Kids day will be full of fun\, games\, teaching\, small groups\, and building connections with kids from other churches. \nSausage Sizzle on the day for $2.50 and drink for $1.50  or BYO Lunch. \n 
URL:https://life-church.org.au/event/district-kids-day/
LOCATION:LifeChurch Maryborough\, 68 Gayndah Rd\, Maryborough West\, QLD\, 4650\, Australia
CATEGORIES:Children,Community,Life Chuch
ATTACH;FMTTYPE=image/jpeg:https://life-church.org.au/wp-content/uploads/2019/03/Screen-Shot-2019-03-28-at-10.20.49-PM.jpg
END:VEVENT
END:VCALENDAR