BEGIN:VCALENDAR
VERSION:2.0
PRODID:-//LifeChurch - ECPv6.8.3//NONSGML v1.0//EN
CALSCALE:GREGORIAN
METHOD:PUBLISH
X-ORIGINAL-URL:https://life-church.org.au
X-WR-CALDESC:Events for LifeChurch
REFRESH-INTERVAL;VALUE=DURATION:PT1H
X-Robots-Tag:noindex
X-PUBLISHED-TTL:PT1H
BEGIN:VTIMEZONE
TZID:Australia/Brisbane
BEGIN:STANDARD
TZOFFSETFROM:+1000
TZOFFSETTO:+1000
TZNAME:AEST
DTSTART:20210101T000000
END:STANDARD
END:VTIMEZONE
BEGIN:VEVENT
DTSTART;TZID=Australia/Brisbane:20211219T170000
DTEND;TZID=Australia/Brisbane:20211219T180000
DTSTAMP:20260422T071005
CREATED:20211123T034231Z
LAST-MODIFIED:20211123T040126Z
UID:2813-1639933200-1639936800@life-church.org.au
SUMMARY:LifeChurch Hervey Bay's Christmas Carol Service
DESCRIPTION:This year\, We’re hosting a Christmas Carols Service with lots of food\, singing and a special Christmas message. Anyone and everyone is more than welcome to join us in this special time of year! It will be at the Hervey Bay campus on the 19th of December 22 Charles Street Pialba in the Neighborhood Centre at 5pm.
URL:https://life-church.org.au/event/lifechurch-hervey-bays-christmas-carol-service/
LOCATION:Hervey Bay Neighbourhood Centre\, 22 Charles St.\, Pialba\, QLD\, 4655\, Australia
CATEGORIES:Community,Family,Food,Life Chuch,LifeChurch Hervey Bay,Music,Outreach,Prayer,Worship
ATTACH;FMTTYPE=image/png:https://life-church.org.au/wp-content/uploads/2021/11/CCS.png
END:VEVENT
BEGIN:VEVENT
DTSTART;TZID=Australia/Brisbane:20210905T150000
DTEND;TZID=Australia/Brisbane:20210905T170000
DTSTAMP:20260422T071005
CREATED:20210824T052825Z
LAST-MODIFIED:20210824T053143Z
UID:2778-1630854000-1630861200@life-church.org.au
SUMMARY:Father's Day Family Fun Day! @Hervey Bay Campus
DESCRIPTION:Come out for this Father’s Day event that will be fun for the whole family. Jumping Castles for all ages including some competitions with prizes for dads (BCF/Bunnings Gift Cards)\, food\, face painting\, and live performances from Island Breeze! All are welcome to the come out and enjoy the afternoon outside of the Hervey Bay Neighbourhood Centre (22 Charles St. Pialba) . This will be followed by a special Father’s Day Celebration Service in the HBNC hall
URL:https://life-church.org.au/event/fathers-day-family-fun-day-hervey-bay-campus/
LOCATION:Hervey Bay Neighbourhood Centre\, 22 Charles St.\, Pialba\, QLD\, 4655\, Australia
CATEGORIES:Children,Community,Family,Food,LifeChurch Hervey Bay,Men,Music
ATTACH;FMTTYPE=image/jpeg:https://life-church.org.au/wp-content/uploads/2021/08/Family-Fun-Sunday.jpeg
END:VEVENT
BEGIN:VEVENT
DTSTART;TZID=Australia/Brisbane:20210718T170000
DTEND;TZID=Australia/Brisbane:20210718T190000
DTSTAMP:20260422T071005
CREATED:20210713T023809Z
LAST-MODIFIED:20210713T023809Z
UID:2750-1626627600-1626634800@life-church.org.au
SUMMARY:LifeChurch-Hervey Bay 6 Month Celebration!
DESCRIPTION:Please join us this Sunday for a special celebration! LifeChurch – Hervey Bay is turning 6 Months!  There will be a guest speaker\, and other special stuff happening!  If you regularly attend Service in the morning\, why don’t you come up to the Bay that evening as well\, to help celebrate with your fellow church family? It will be a time of Praise and Thanksgiving for the doors that the Lord has opened for our church and for the doors that he will continue to open in the future!
URL:https://life-church.org.au/event/lifechurch-hervey-bay-6-month-celebration/
LOCATION:Hervey Bay Neighbourhood Centre\, 22 Charles St.\, Pialba\, QLD\, 4655\, Australia
CATEGORIES:Community,Family,Food,LifeChurch Hervey Bay,LifeChurch Maryborough,Music,Outreach,Prayer,Worship
ATTACH;FMTTYPE=image/png:https://life-church.org.au/wp-content/uploads/2021/07/6monthaversary-graphic.png
END:VEVENT
BEGIN:VEVENT
DTSTART;VALUE=DATE:20210530
DTEND;VALUE=DATE:20210628
DTSTAMP:20260422T071005
CREATED:20210316T040716Z
LAST-MODIFIED:20210601T011046Z
UID:2668-1622332800-1624838399@life-church.org.au
SUMMARY:CURRENT SERIES: The Prayers of Jesus
DESCRIPTION:We all know the Lord’s Prayer\, but did you know that there are at least 7 prayers of Jesus recorded in Scripture? Through this series we’ll learn how to tap into the Father’s heart from the Son of God Himself.
URL:https://life-church.org.au/event/current-series-the-miracles-of-jesus/
LOCATION:LifeChurch Maryborough\, 68 Gayndah Rd\, Maryborough West\, QLD\, 4650\, Australia
CATEGORIES:Community,Family,Food,LifeChurch Hervey Bay,LifeChurch Maryborough,Music,Prayer,Worship
ATTACH;FMTTYPE=image/jpeg:https://life-church.org.au/wp-content/uploads/2021/03/Prayers-of-JEsus.jpeg
END:VEVENT
BEGIN:VEVENT
DTSTART;TZID=Australia/Brisbane:20210509T100000
DTEND;TZID=Australia/Brisbane:20210509T190000
DTSTAMP:20260422T071005
CREATED:20210504T003942Z
LAST-MODIFIED:20210504T003942Z
UID:2708-1620554400-1620586800@life-church.org.au
SUMMARY:Mother's Day @ LifeChurch
DESCRIPTION:We love our Mums!\nJoin us this Mother’s Day as we thank God for our Mums… hear a great testimony from one of our own mums… and have a great time together!\n10am Maryborough – followed by a special morning tea.\n5pm Hervey Bay – followed by dinner.
URL:https://life-church.org.au/event/mothers-day-lifechurch/
LOCATION:LifeChurch Maryborough\, 68 Gayndah Rd\, Maryborough West\, QLD\, 4650\, Australia
CATEGORIES:Children,Community,Family,Food,LifeChurch Hervey Bay,LifeChurch Maryborough,Music,Outreach,Women,Worship
ATTACH;FMTTYPE=image/jpeg:https://life-church.org.au/wp-content/uploads/2021/05/Mothers-Day.jpeg
END:VEVENT
BEGIN:VEVENT
DTSTART;VALUE=DATE:20210207
DTEND;VALUE=DATE:20210208
DTSTAMP:20260422T071005
CREATED:20210202T021416Z
LAST-MODIFIED:20210202T021416Z
UID:2622-1612656000-1612742399@life-church.org.au
SUMMARY:The Parables of Jesus
DESCRIPTION:Join us this Sunday as our Guest Speaker and District Superintendent Pastor Rex Rigby closes out the Sermon Series “The Parables of Jesus.” \n \nServices start at 10am in Maryborough and 5pm in Hervey Bay.
URL:https://life-church.org.au/event/the-parables-of-jesus/
LOCATION:QLD
CATEGORIES:Children,Community,Family,Food,LifeChurch Hervey Bay,LifeChurch Maryborough,Music,Outreach,Prayer,Worship
ATTACH;FMTTYPE=image/png:https://life-church.org.au/wp-content/uploads/2021/02/sermon-series-event.png
END:VEVENT
BEGIN:VEVENT
DTSTART;VALUE=DATE:20210124
DTEND;VALUE=DATE:20211227
DTSTAMP:20260422T071005
CREATED:20210202T020919Z
LAST-MODIFIED:20211116T054234Z
UID:2620-1611446400-1640563199@life-church.org.au
SUMMARY:LifeChurch: One Church / Two Locations
DESCRIPTION:LifeChurch – Maryborough and Hervey Bay is One Church @ Two Locations. \nOur mission is to Seek God\, Love Others\, and to Make a Difference. \nJoin us at either location on a Sunday for worship and fellowship. \n \nIn Maryborough\, we meet in our church building at 68 Gayndah Road. \nIn Hervey Bay\, we meet in the HB Neighbourhood Centre in Pialba at 22 Charles Street.
URL:https://life-church.org.au/event/lifechurch-one-church-two-locations-4/
LOCATION:LifeChurch\, 68 Gayndah Road\, Maryborough\, QLD\, 4560\, Australia
CATEGORIES:Children,Community,Family,Food,LifeChurch Hervey Bay,LifeChurch Maryborough,Music,Outreach,Prayer,Worship
ATTACH;FMTTYPE=image/png:https://life-church.org.au/wp-content/uploads/2021/02/Add-a-subheading-1-1.png
END:VEVENT
BEGIN:VEVENT
DTSTART;TZID=Australia/Brisbane:20210117T170000
DTEND;TZID=Australia/Brisbane:20210117T190000
DTSTAMP:20260422T071005
CREATED:20201208T010245Z
LAST-MODIFIED:20201208T033748Z
UID:2561-1610902800-1610910000@life-church.org.au
SUMMARY:LifeChurch Maryborough // Hervey Bay LAUNCHING...
DESCRIPTION:EXCITING ANNOUNCEMENT!\nLifeChurch is coming to Hervey Bay soon!  Our First Official Night Service starts on 17th January @ 5pm @ the Hervey Bay Neighbourhood Centre in Pialba!  We cannot wait to see you there and to see what God has in store for this new chapter for LifeChurch!
URL:https://life-church.org.au/event/2561/
LOCATION:Hervey Bay Neighbourhood Centre\, 22 Charles St.\, Pialba\, QLD\, 4655\, Australia
CATEGORIES:Children,Community,Family,Food,LifeChurch Hervey Bay,Music,Outreach,Prayer,Worship,Youth
ATTACH;FMTTYPE=image/png:https://life-church.org.au/wp-content/uploads/2020/10/lifechurch2.0.png
END:VEVENT
END:VCALENDAR