BEGIN:VCALENDAR
VERSION:2.0
PRODID:-//LifeChurch - ECPv6.8.3//NONSGML v1.0//EN
CALSCALE:GREGORIAN
METHOD:PUBLISH
X-ORIGINAL-URL:https://life-church.org.au
X-WR-CALDESC:Events for LifeChurch
REFRESH-INTERVAL;VALUE=DURATION:PT1H
X-Robots-Tag:noindex
X-PUBLISHED-TTL:PT1H
BEGIN:VTIMEZONE
TZID:Australia/Brisbane
BEGIN:STANDARD
TZOFFSETFROM:+1000
TZOFFSETTO:+1000
TZNAME:AEST
DTSTART:20200101T000000
END:STANDARD
END:VTIMEZONE
BEGIN:VEVENT
DTSTART;TZID=Australia/Brisbane:20210117T170000
DTEND;TZID=Australia/Brisbane:20210117T190000
DTSTAMP:20260422T061236
CREATED:20201208T010245Z
LAST-MODIFIED:20201208T033748Z
UID:2561-1610902800-1610910000@life-church.org.au
SUMMARY:LifeChurch Maryborough // Hervey Bay LAUNCHING...
DESCRIPTION:EXCITING ANNOUNCEMENT!\nLifeChurch is coming to Hervey Bay soon!  Our First Official Night Service starts on 17th January @ 5pm @ the Hervey Bay Neighbourhood Centre in Pialba!  We cannot wait to see you there and to see what God has in store for this new chapter for LifeChurch!
URL:https://life-church.org.au/event/2561/
LOCATION:Hervey Bay Neighbourhood Centre\, 22 Charles St.\, Pialba\, QLD\, 4655\, Australia
CATEGORIES:Children,Community,Family,Food,LifeChurch Hervey Bay,Music,Outreach,Prayer,Worship,Youth
ATTACH;FMTTYPE=image/png:https://life-church.org.au/wp-content/uploads/2020/10/lifechurch2.0.png
END:VEVENT
BEGIN:VEVENT
DTSTART;TZID=Australia/Brisbane:20201225T090000
DTEND;TZID=Australia/Brisbane:20201225T100000
DTSTAMP:20260422T061236
CREATED:20201215T001506Z
LAST-MODIFIED:20201215T005601Z
UID:2572-1608886800-1608890400@life-church.org.au
SUMMARY:Christmas Day Morning Service
DESCRIPTION:We’re looking forward to spending Christmas morning with you! Come to LifeChurch 9am on Friday and celebrate the birth of Jesus Christ with us. All are welcome! \n 
URL:https://life-church.org.au/event/christmas-day-morning-service/
LOCATION:LifeChurch Maryborough\, 68 Gayndah Rd\, Maryborough West\, QLD\, 4650\, Australia
CATEGORIES:Children,Community,Family,LifeChurch Maryborough,Music,Outreach,Prayer,Worship
ATTACH;FMTTYPE=image/jpeg:https://life-church.org.au/wp-content/uploads/2020/12/Christmas-DAY.jpg
END:VEVENT
BEGIN:VEVENT
DTSTART;TZID=Australia/Brisbane:20201224T190000
DTEND;TZID=Australia/Brisbane:20201224T200000
DTSTAMP:20260422T061236
CREATED:20201215T001207Z
LAST-MODIFIED:20201215T010112Z
UID:2570-1608836400-1608840000@life-church.org.au
SUMMARY:Christmas Eve // Carols by Candlelight
DESCRIPTION:We’re doing something a little bit different this year… \nWe are having our Christmas Eve service outside this time around! Make sure you bring a chair as we sing carols together and celebrate the moments leading up to Jesus’ birth. Anyone and everyone is welcome to come and we hope to make this Christmas season extra special.  Invite your family and friends! We cannot wait to welcome this newborn Saviour once again! \n 
URL:https://life-church.org.au/event/christmas-eve-carols-by-candlelight/
LOCATION:LifeChurch Maryborough\, 68 Gayndah Rd\, Maryborough West\, QLD\, 4650\, Australia
CATEGORIES:Children,Community,Conference,Family,LifeChurch Maryborough,Music,Outreach,Prayer,Worship
ATTACH;FMTTYPE=image/jpeg:https://life-church.org.au/wp-content/uploads/2020/12/Christmas-EVE.jpg
END:VEVENT
BEGIN:VEVENT
DTSTART;TZID=Australia/Brisbane:20201213T170000
DTEND;TZID=Australia/Brisbane:20201213T183000
DTSTAMP:20260422T061236
CREATED:20201027T020456Z
LAST-MODIFIED:20201208T004504Z
UID:2550-1607878800-1607884200@life-church.org.au
SUMMARY:LifeChurch: One Church // Two Locations  ((PRE - LAUNCH))
DESCRIPTION:EXCITING ANNOUNCEMENT!\nLifeChurch is coming to Hervey Bay soon!  Come to the Pre-Launch Service This coming Sunday\, 13th December @ 5pm at the Hervey Bay Neighbourhood Centre in Piabla – 22 Charles St.  We will share God’s Vision for this new campus\, cover the whole thing in Prayer and Worship\, and see what a service will look like logistically by Practicing a real service!  We hope to see you there! Several people will be arriving as early as 2pm to help set up\, and get a good feel of the location and facilities.  You are welcome to come anytime from then on to help out and pray over the future of this new campus!
URL:https://life-church.org.au/event/lifechurch-one-church-two-locations/
LOCATION:LifeChurch Maryborough\, 68 Gayndah Rd\, Maryborough West\, QLD\, 4650\, Australia
CATEGORIES:Children,Community,Family,Food,Life Chuch,Music,Outreach,Prayer,Worship
ATTACH;FMTTYPE=image/png:https://life-church.org.au/wp-content/uploads/2020/10/lifechurch2.0.png
END:VEVENT
BEGIN:VEVENT
DTSTART;TZID=Australia/Brisbane:20201212T150000
DTEND;TZID=Australia/Brisbane:20201212T210000
DTSTAMP:20260422T061236
CREATED:20201001T030240Z
LAST-MODIFIED:20201020T012605Z
UID:2517-1607785200-1607806800@life-church.org.au
SUMMARY:Board Games!
DESCRIPTION:Every Fortnight\, a group of people get together to let loose and play board games together.  Consider coming along to their next meeting on a Saturday afternoon-evening.  This is a fortnightly event that is open to all ages.  Bring your family\, bring your friends\, and just have a great time beating them at something.
URL:https://life-church.org.au/event/board-games-2/
LOCATION:LifeChurch Maryborough\, 68 Gayndah Rd\, Maryborough West\, QLD\, 4650\, Australia
CATEGORIES:Community,Family,Outreach,Youth
ATTACH;FMTTYPE=image/jpeg:https://life-church.org.au/wp-content/uploads/2020/10/Board-Games.jpg
END:VEVENT
BEGIN:VEVENT
DTSTART;TZID=Australia/Brisbane:20201211T190000
DTEND;TZID=Australia/Brisbane:20201211T210000
DTSTAMP:20260422T061236
CREATED:20201020T022732Z
LAST-MODIFIED:20201020T022732Z
UID:2545-1607713200-1607720400@life-church.org.au
SUMMARY:\ \ Christmas Night / / Youth Group Term 4!
DESCRIPTION:CHRISTMAS IS HERRREEEE!  The plan may change\, but its either going to be a regular night with Christmas themed everything\, or a Family movie night where you can bring your younger siblings and parents along!  No matter what\, we hope this Christmas season (and School holidays!!!) brings you joy and that you find that you were worth God coming down as a tiny human to someday save your soul. 🎄🐪🥁👶🏽🎁
URL:https://life-church.org.au/event/christmas-night-youth-group-term-4/
LOCATION:LifeChurch Maryborough\, 68 Gayndah Rd\, Maryborough West\, QLD\, 4650\, Australia
CATEGORIES:Children,Community,Family,Food,Outreach,Youth
ATTACH;FMTTYPE=image/png:https://life-church.org.au/wp-content/uploads/2020/10/youth-nights-title-events.png
END:VEVENT
BEGIN:VEVENT
DTSTART;TZID=Australia/Brisbane:20201204T190000
DTEND;TZID=Australia/Brisbane:20201204T210000
DTSTAMP:20260422T061236
CREATED:20201020T022109Z
LAST-MODIFIED:20201020T022119Z
UID:2543-1607108400-1607115600@life-church.org.au
SUMMARY:\ \ GAMES Night / / Youth Group Term 4!
DESCRIPTION:Yep That’s right! ANOTHER GAMES NIGHT!  We just love the nights where the leaders and the students can connect through playing a card game\, or a video game\, or even dancing together along with a Just Dance video!  We would love to have you on this fun and chill night of nothing but fun + Jesus! \n 
URL:https://life-church.org.au/event/games-night-youth-group-term-4-2/
LOCATION:LifeChurch Maryborough\, 68 Gayndah Rd\, Maryborough West\, QLD\, 4650\, Australia
CATEGORIES:Community,Outreach,Youth
ATTACH;FMTTYPE=image/png:https://life-church.org.au/wp-content/uploads/2020/10/youth-nights-title-events.png
END:VEVENT
BEGIN:VEVENT
DTSTART;TZID=Australia/Brisbane:20201128T150000
DTEND;TZID=Australia/Brisbane:20201128T210000
DTSTAMP:20260422T061236
CREATED:20201020T012252Z
LAST-MODIFIED:20201020T012308Z
UID:2526-1606575600-1606597200@life-church.org.au
SUMMARY:Board Games!
DESCRIPTION:Every Fortnight\, a group of people get together to let loose and play board games together.  Consider coming along to their next meeting on a Saturday afternoon-evening.  This is a fortnightly event that is open to all ages.  Bring your family\, bring your friends\, and just have a great time beating them at something.
URL:https://life-church.org.au/event/board-games-4/
LOCATION:LifeChurch Maryborough\, 68 Gayndah Rd\, Maryborough West\, QLD\, 4650\, Australia
CATEGORIES:Community,Family,Outreach,Youth
ATTACH;FMTTYPE=image/jpeg:https://life-church.org.au/wp-content/uploads/2020/10/Board-Games.jpg
END:VEVENT
BEGIN:VEVENT
DTSTART;TZID=Australia/Brisbane:20201127T190000
DTEND;TZID=Australia/Brisbane:20201127T210000
DTSTAMP:20260422T061236
CREATED:20201020T021704Z
LAST-MODIFIED:20201020T021704Z
UID:2541-1606503600-1606510800@life-church.org.au
SUMMARY:\ \ BNO / / Youth Group Term 4!
DESCRIPTION:*BIG NIGHT OUT* \nWe don’t yet have a plan for this night\, but in the past\, we’ve gone to TimeZone + JumpPark!  We’ll keep you up to date about what we’re doing!
URL:https://life-church.org.au/event/bno-youth-group-term-4/
LOCATION:QLD
CATEGORIES:Community,Outreach,Youth
ATTACH;FMTTYPE=image/png:https://life-church.org.au/wp-content/uploads/2020/10/youth-nights-title-events.png
END:VEVENT
BEGIN:VEVENT
DTSTART;TZID=Australia/Brisbane:20201120T190000
DTEND;TZID=Australia/Brisbane:20201120T210000
DTSTAMP:20260422T061236
CREATED:20201020T021044Z
LAST-MODIFIED:20201020T021044Z
UID:2539-1605898800-1605906000@life-church.org.au
SUMMARY:\ \ LEGO Night / / Youth Group Term 4!
DESCRIPTION:Discover the MasterBuilder in you!!!  Legos are great\, so we’re going to have a whole night about it!  Bring your own sets AT YOUR OWN RISK!  You know it’s hard to find those little guys…
URL:https://life-church.org.au/event/lego-night-youth-group-term-4/
LOCATION:LifeChurch Maryborough\, 68 Gayndah Rd\, Maryborough West\, QLD\, 4650\, Australia
CATEGORIES:Community,Outreach,Worship
ATTACH;FMTTYPE=image/png:https://life-church.org.au/wp-content/uploads/2020/10/youth-nights-title-events.png
END:VEVENT
BEGIN:VEVENT
DTSTART;TZID=Australia/Brisbane:20201114T150000
DTEND;TZID=Australia/Brisbane:20201114T210000
DTSTAMP:20260422T061236
CREATED:20201020T012157Z
LAST-MODIFIED:20201020T012157Z
UID:2524-1605366000-1605387600@life-church.org.au
SUMMARY:Board Games!
DESCRIPTION:Every Fortnight\, a group of people get together to let loose and play board games together.  Consider coming along to their next meeting on a Saturday afternoon-evening.  This is a fortnightly event that is open to all ages.  Bring your family\, bring your friends\, and just have a great time beating them at something.
URL:https://life-church.org.au/event/board-games-3/
LOCATION:LifeChurch\, 68 Gayndah Road\, Maryborough\, QLD\, 4560\, Australia
CATEGORIES:Community,Family,Outreach,Youth
ATTACH;FMTTYPE=image/jpeg:https://life-church.org.au/wp-content/uploads/2020/10/Board-Games.jpg
END:VEVENT
BEGIN:VEVENT
DTSTART;TZID=Australia/Brisbane:20201113T190000
DTEND;TZID=Australia/Brisbane:20201113T210000
DTSTAMP:20260422T061236
CREATED:20201020T020145Z
LAST-MODIFIED:20201020T020644Z
UID:2537-1605294000-1605301200@life-church.org.au
SUMMARY:\ \ OP SHOP Formal / / Youth Group Term 4!
DESCRIPTION:Come to celebrate our lovely yr 12s by dressing up *op shop formal* style!  Wear your flashiest suit or dress for a “Night to Remember” as all the Prom Night themes say 😉. We’ll also be having an awards show for the whole group!  be sure to come to see who wins a trophy! \n 
URL:https://life-church.org.au/event/op-shop-formal-youth-group-term-4/
LOCATION:LifeChurch Maryborough\, 68 Gayndah Rd\, Maryborough West\, QLD\, 4650\, Australia
CATEGORIES:Community,Outreach,Youth
ATTACH;FMTTYPE=image/png:https://life-church.org.au/wp-content/uploads/2020/10/youth-nights-title-events.png
END:VEVENT
BEGIN:VEVENT
DTSTART;TZID=Australia/Brisbane:20201106T190000
DTEND;TZID=Australia/Brisbane:20201106T210000
DTSTAMP:20260422T061236
CREATED:20201020T015726Z
LAST-MODIFIED:20201020T015726Z
UID:2535-1604689200-1604696400@life-church.org.au
SUMMARY:\ \ UndErGrouND cHUrch!! / / Youth Group Term 4!
DESCRIPTION:Underground Church is a Youth Group STAPLE night!  This is another chance for students to roam free\, while also using their sleuthing skills a little bit!  The heart of Underground Church is about Missions.  There are so many people in the world who do not know the Lord\, because it is against the law!  As a youth group\, we learn how difficult it can be to reach those unreached through this SUPER FUN activity!  Come along\, bring your friends! 👀🤫⛪️ \n 
URL:https://life-church.org.au/event/underground-church-youth-group-term-4/
LOCATION:LifeChurch\, 68 Gayndah Road\, Maryborough\, QLD\, 4560\, Australia
CATEGORIES:Community,Outreach,Youth
ATTACH;FMTTYPE=image/png:https://life-church.org.au/wp-content/uploads/2020/10/youth-nights-title-events.png
END:VEVENT
BEGIN:VEVENT
DTSTART;TZID=Australia/Brisbane:20201031T150000
DTEND;TZID=Australia/Brisbane:20201031T210000
DTSTAMP:20260422T061236
CREATED:20201001T025859Z
LAST-MODIFIED:20201001T040739Z
UID:2513-1604156400-1604178000@life-church.org.au
SUMMARY:Board Games!
DESCRIPTION:Every Fortnight\, a group of people get together to let loose and play board games together.  Consider coming along to their next meeting on a Saturday afternoon-evening.  This is a fortnightly event that is open to all ages!  So bring your family and friends and enjoy a fun night of games! \n 
URL:https://life-church.org.au/event/board-games/
LOCATION:LifeChurch\, 68 Gayndah Road\, Maryborough\, QLD\, 4560\, Australia
CATEGORIES:Community,Family,Outreach,Youth
ATTACH;FMTTYPE=image/jpeg:https://life-church.org.au/wp-content/uploads/2020/10/Board-Games.jpg
END:VEVENT
BEGIN:VEVENT
DTSTART;TZID=Australia/Brisbane:20201030T190000
DTEND;TZID=Australia/Brisbane:20201030T210000
DTSTAMP:20260422T061236
CREATED:20201020T014938Z
LAST-MODIFIED:20201020T015212Z
UID:2532-1604084400-1604091600@life-church.org.au
SUMMARY:\ \ SILENT DISCO / / Youth Group Term 4!
DESCRIPTION:Silent Disco? Sounds interesting!  So it’ll be kind of like a Disco Themed night(for costume reference!).  Be sure to bring your own *appropriate* music + headphones!  We’re gonna dance to our own music on this night!  Should be a fun and silly time! 🎧🕶💃🏼🕺🏼 \n 
URL:https://life-church.org.au/event/silent-disco-youth-group-term-4/
LOCATION:LifeChurch Maryborough\, 68 Gayndah Rd\, Maryborough West\, QLD\, 4650\, Australia
CATEGORIES:Community,Music,Outreach,Youth
ATTACH;FMTTYPE=image/png:https://life-church.org.au/wp-content/uploads/2020/10/youth-nights-title-events.png
END:VEVENT
BEGIN:VEVENT
DTSTART;TZID=Australia/Brisbane:20201023T190000
DTEND;TZID=Australia/Brisbane:20201023T210000
DTSTAMP:20260422T061236
CREATED:20201020T014238Z
LAST-MODIFIED:20201020T014238Z
UID:2528-1603479600-1603486800@life-church.org.au
SUMMARY:\ \ GAMES Night / / Youth Group Term 4!
DESCRIPTION:Games Night is a fun night to hang out and play games with your friends!  Come on out ready to Just Dance\, play Jenga\, do some colouring in\, or whatever!  There will be some different game consoles to play inside + running games outside!  There’s something for everyone on GAMES NIGHT!! 🏉🎮🎱🎲🏓 \n 
URL:https://life-church.org.au/event/games-night-youth-group-term-4/
LOCATION:LifeChurch Maryborough\, 68 Gayndah Rd\, Maryborough West\, QLD\, 4650\, Australia
CATEGORIES:Children,Community,Outreach,Youth
ATTACH;FMTTYPE=image/png:https://life-church.org.au/wp-content/uploads/2020/10/youth-nights-title-events.png
END:VEVENT
BEGIN:VEVENT
DTSTART;TZID=Australia/Brisbane:20200802T100000
DTEND;TZID=Australia/Brisbane:20200802T113000
DTSTAMP:20260422T061236
CREATED:20200721T040543Z
LAST-MODIFIED:20200721T040543Z
UID:2469-1596362400-1596367800@life-church.org.au
SUMMARY:Sunday (LifeKids + Morning Service + Prayer&Worship)
DESCRIPTION:Every Sunday during a School Term\, we have our Kids Program “LifeKids” @ 8:45a-10a \nWe have our Worship Service Every Sunday of the year @ 10a-11:30a. \n@ 6pm\, we hope to see you back at the church for our 1st Sunday of the Month Prayer & Worship Service! We are so excited to start doing these again as another way of coming back together!
URL:https://life-church.org.au/event/sunday-lifekids-morning-service-prayerworship/
LOCATION:LifeChurch\, 68 Gayndah Road\, Maryborough\, QLD\, 4560\, Australia
CATEGORIES:Children,Community,Family,Music,Outreach,Prayer,Worship,Youth
ATTACH;FMTTYPE=image/jpeg:https://life-church.org.au/wp-content/uploads/2020/07/Welcome-Back-1.jpg
END:VEVENT
BEGIN:VEVENT
DTSTART;TZID=Australia/Brisbane:20200726T100000
DTEND;TZID=Australia/Brisbane:20200726T113000
DTSTAMP:20260422T061236
CREATED:20200721T022647Z
LAST-MODIFIED:20200721T040204Z
UID:2466-1595757600-1595763000@life-church.org.au
SUMMARY:Sunday (LifeKids + Service)
DESCRIPTION:Every Sunday during a School Term\, we have our Kids Program “LifeKids” @ 8:45a-10a \nWe have our Worship Service Every Sunday of the year @ 10a-11:30a
URL:https://life-church.org.au/event/sunday-lifekids-service/
LOCATION:LifeChurch\, 68 Gayndah Road\, Maryborough\, QLD\, 4560\, Australia
CATEGORIES:Children,Community,Family,Music,Outreach,Prayer,Worship,Youth
ATTACH;FMTTYPE=image/jpeg:https://life-church.org.au/wp-content/uploads/2020/07/Welcome-Back-1.jpg
END:VEVENT
END:VCALENDAR