BEGIN:VCALENDAR
VERSION:2.0
PRODID:-//LifeChurch - ECPv6.8.3//NONSGML v1.0//EN
CALSCALE:GREGORIAN
METHOD:PUBLISH
X-WR-CALNAME:LifeChurch
X-ORIGINAL-URL:https://life-church.org.au
X-WR-CALDESC:Events for LifeChurch
REFRESH-INTERVAL;VALUE=DURATION:PT1H
X-Robots-Tag:noindex
X-PUBLISHED-TTL:PT1H
BEGIN:VTIMEZONE
TZID:Australia/Brisbane
BEGIN:STANDARD
TZOFFSETFROM:+1000
TZOFFSETTO:+1000
TZNAME:AEST
DTSTART:20190101T000000
END:STANDARD
TZID:Australia/Melbourne
BEGIN:STANDARD
TZOFFSETFROM:+1100
TZOFFSETTO:+1000
TZNAME:AEST
DTSTART:20180331T160000
END:STANDARD
BEGIN:DAYLIGHT
TZOFFSETFROM:+1000
TZOFFSETTO:+1100
TZNAME:AEDT
DTSTART:20181006T160000
END:DAYLIGHT
END:VTIMEZONE
BEGIN:VEVENT
DTSTART;TZID=Australia/Brisbane:20240518T090000
DTEND;TZID=Australia/Brisbane:20240518T123000
DTSTAMP:20260422T022156
CREATED:20240403T025132Z
LAST-MODIFIED:20240429T231815Z
UID:3157-1716022800-1716035400@life-church.org.au
SUMMARY:Women Alive Brunch
DESCRIPTION:Join us for a delicious brunch\, a captivating speaker\, a fun craft activity and the opportunity to gather together with ladies from across our district! \nAll women are welcome\, we’d love to see you there! \n9:00am – 12:30pm \nRegister now: \nhttps://lifechurch.elvanto.com.au/form/69f722ef-da28-43ed-b1db-a995cc7ed5c9
URL:https://life-church.org.au/event/women-alive-brunch/
LOCATION:LifeChurch Maryborough\, 68 Gayndah Rd\, Maryborough West\, QLD\, 4650\, Australia
CATEGORIES:Community,Food,Life Chuch,Women
ATTACH;FMTTYPE=image/png:https://life-church.org.au/wp-content/uploads/2024/04/Women-Alive-2024.png
END:VEVENT
BEGIN:VEVENT
DTSTART;VALUE=DATE:20240417
DTEND;VALUE=DATE:20240606
DTSTAMP:20260422T022156
CREATED:20240221T001422Z
LAST-MODIFIED:20240227T025958Z
UID:3126-1713312000-1717631999@life-church.org.au
SUMMARY:ALPHA 2024
DESCRIPTION:In term 2\, LifeChurch will be completing Alpha as a church at the same time as Wesleyan Churches all around Australia. It goes for 8 sessions on a Wednesday night from 7pm till 9pm\, starting on the 17th of April \nAlpha is a series of interactive sessions that explore life faith and meaning… and everyone is invited!\nIf you want to know more about Alpha\, head to https://www.alpha.org.au/basics \nIf you want to sign up for Alpha at LifeChurch\, head to https://www.alpha.org.au/try#find \n\nhttps://life-church.org.au/wp-content/uploads/2024/02/Alpha-Easter-Campaign_2023_FINAL-2_1.mp4
URL:https://life-church.org.au/event/alpha-2024/
LOCATION:LifeChurch Maryborough\, 68 Gayndah Rd\, Maryborough West\, QLD\, 4650\, Australia
CATEGORIES:Children,Community,Family,Food,Life Chuch,LifeChurch Maryborough,Men,Outreach,Prayer,Women,Youth
ATTACH;FMTTYPE=image/jpeg:https://life-church.org.au/wp-content/uploads/2024/02/ALPHA_GENERIC_04_POST.jpg
END:VEVENT
BEGIN:VEVENT
DTSTART;TZID=Australia/Brisbane:20240316T143000
DTEND;TZID=Australia/Brisbane:20240316T163000
DTSTAMP:20260422T022156
CREATED:20240228T032731Z
LAST-MODIFIED:20240228T032934Z
UID:3143-1710599400-1710606600@life-church.org.au
SUMMARY:Women's Afternoon Tea
DESCRIPTION:Everyone’s invited to our first Women’s Afternoon Tea on the 16th of March from 2:30pm to 4:30pm here at LifeChurch. It’s going to be a great time of fellowship and connection\, and we will be hearing from our very own Jo Gaffel as she brings a word for our ladies. All our ladies 12 y/o and up are invited and food is provided\, so bring along a friend and we can’t wait to see you there!
URL:https://life-church.org.au/event/womens-afternoon-tea/
LOCATION:LifeChurch Maryborough\, 68 Gayndah Rd\, Maryborough West\, QLD\, 4650\, Australia
CATEGORIES:Community,Family,Food,Women
ATTACH;FMTTYPE=image/png:https://life-church.org.au/wp-content/uploads/2024/02/Untitled-design-12.png
END:VEVENT
BEGIN:VEVENT
DTSTART;TZID=Australia/Brisbane:20231224T173000
DTEND;TZID=Australia/Brisbane:20231224T200000
DTSTAMP:20260422T022156
CREATED:20231115T042958Z
LAST-MODIFIED:20231115T043036Z
UID:3105-1703439000-1703448000@life-church.org.au
SUMMARY:"The Night Before Christmas" Community Carols Event
DESCRIPTION:We’re so excited to announce our “The Night Before Christmas” Community Carols Event on Christmas Eve @ LifeChurch Maryborough. You and everyone you know are invited! \nStarting at 5:30pm we will have delicious free food\, courtesy of our FoodBasket Ministry\, as well as games and crafts and fun for the children\, and of course – Carols! \nBring a chair and come and join the excitement and celebration. Everyone is welcome!
URL:https://life-church.org.au/event/the-night-before-christmas-community-carols-event/
LOCATION:LifeChurch Maryborough\, 68 Gayndah Rd\, Maryborough West\, QLD\, 4650\, Australia
CATEGORIES:Children,Community,Family,Food,Life Chuch,LifeChurch Maryborough,Men,Music,Outreach,Women,Worship,Youth
END:VEVENT
BEGIN:VEVENT
DTSTART;TZID=Australia/Brisbane:20221225T170000
DTEND;TZID=Australia/Brisbane:20221225T190000
DTSTAMP:20260422T022156
CREATED:20221206T002140Z
LAST-MODIFIED:20221206T002656Z
UID:2989-1671987600-1671994800@life-church.org.au
SUMMARY:Christmas Karaoke
DESCRIPTION:Come along to the Neighbourhood Centre for some light-hearted Christmas cheer! \nWe know Christmas can be a hard time for people.  Maybe you’re missing family members this Christmas\, maybe the season is just stressful for you.  Come hang out with us; we’ll hand out Christmas food hampers\, have some sausage rolls and fruit mince pies\, and Christmas karaoke!!  Just bring yourself and we’ll do the rest!
URL:https://life-church.org.au/event/christmas-evening/
LOCATION:Hervey Bay Neighbourhood Centre\, 22 Charles St.\, Pialba\, QLD\, 4655\, Australia
CATEGORIES:Children,Community,Family,Food,LifeChurch Hervey Bay,Men,Music,Outreach,Prayer,Women,Youth
ATTACH;FMTTYPE=image/png:https://life-church.org.au/wp-content/uploads/2022/12/11.png
END:VEVENT
BEGIN:VEVENT
DTSTART;VALUE=DATE:20210820
DTEND;VALUE=DATE:20210823
DTSTAMP:20260422T022156
CREATED:20210316T042401Z
LAST-MODIFIED:20210713T022125Z
UID:2676-1629417600-1629676799@life-church.org.au
SUMMARY:Women's Retreat // REGO CLOSES 31 July!
DESCRIPTION:  \n\nRetreat is an all inclusive weekend at the Currimundi Recreational Centre with some of your best gal pals from the Wesleyan churches in the south Queensland district!\n\n\nIncluded in the price:\n– All meals and drinks\,\n– Shared unit style accomodation with bathroom and kitchenette\,\n– worship sessions and guest speakers\,\n– prayer stations\, walks and guided prayer meetings\,\n– special gift\,\n– welcome bag\,\n– games and prizes\,\n– and so much more!\n\n\nIf staying the whole weekend isn’t for you\, that’s fine\, we also have the option for you to attend on just Saturday\, which includes all the above minus the accomodation. A day pass is just $80.\n\n\nGrab a few friends and make it a road trip to the Sunny Coast!
URL:https://life-church.org.au/event/district-womens-retreat/
LOCATION:Sunshine Coast Recreation Centre\, 80 Currimundi Rd\, Currimundi\, QLD\, 4551\, Australia
CATEGORIES:Community,Conference,Food,Music,Prayer,Women,Worship
ATTACH;FMTTYPE=image/jpeg:https://life-church.org.au/wp-content/uploads/2021/03/156254910_2821693148045894_4247779643982112267_o.jpg
END:VEVENT
BEGIN:VEVENT
DTSTART;TZID=Australia/Brisbane:20210509T100000
DTEND;TZID=Australia/Brisbane:20210509T190000
DTSTAMP:20260422T022156
CREATED:20210504T003942Z
LAST-MODIFIED:20210504T003942Z
UID:2708-1620554400-1620586800@life-church.org.au
SUMMARY:Mother's Day @ LifeChurch
DESCRIPTION:We love our Mums!\nJoin us this Mother’s Day as we thank God for our Mums… hear a great testimony from one of our own mums… and have a great time together!\n10am Maryborough – followed by a special morning tea.\n5pm Hervey Bay – followed by dinner.
URL:https://life-church.org.au/event/mothers-day-lifechurch/
LOCATION:LifeChurch Maryborough\, 68 Gayndah Rd\, Maryborough West\, QLD\, 4650\, Australia
CATEGORIES:Children,Community,Family,Food,LifeChurch Hervey Bay,LifeChurch Maryborough,Music,Outreach,Women,Worship
ATTACH;FMTTYPE=image/jpeg:https://life-church.org.au/wp-content/uploads/2021/05/Mothers-Day.jpeg
END:VEVENT
BEGIN:VEVENT
DTSTART;TZID=Australia/Brisbane:20201010T100000
DTEND;TZID=Australia/Brisbane:20201010T120000
DTSTAMP:20260422T022156
CREATED:20200820T071654Z
LAST-MODIFIED:20200908T015025Z
UID:2476-1602324000-1602331200@life-church.org.au
SUMMARY:Wesleyan Women's Picnic in the Park!
DESCRIPTION:Attention ladies! The District women’s ministry are putting on a Women’s event in October! It is a Picnic in the Park in Gympie on Saturday\, 10th of October! Unfortunately we had to miss having a Women’s Retreat this year; so this is our chance to catch up with friends from other Wesleyan churches!  It is a FREE event and it is going to be a great morning!  Spread the word to the other ladies of LifeChurch and maybe we can organise a carpool/caravan situation! \nBYO: Chair/Rug\, Food + Coffee/Tea
URL:https://life-church.org.au/event/wesleyan-womens-picnic-in-the-park/
LOCATION:Memorial Park\, Gympie
CATEGORIES:Community,Food,Women
ATTACH;FMTTYPE=image/jpeg:https://life-church.org.au/wp-content/uploads/2020/08/SQW-Picnis-in-the-Park.jpeg
END:VEVENT
BEGIN:VEVENT
DTSTART;VALUE=DATE:20191020
DTEND;VALUE=DATE:20191125
DTSTAMP:20260422T022156
CREATED:20190708T064420Z
LAST-MODIFIED:20191018T065121Z
UID:2222-1571529600-1574639999@life-church.org.au
SUMMARY:CURRENT SERIES:  Heroes of the Faith
DESCRIPTION:Join us as we look at some unlikely heroes\, who although they faced opposition and obstacles\, had faith and were used by God in mighty ways. These are people like you and me who struggled but by the power of God\, prevailed. \n10am Sundays through October & November
URL:https://life-church.org.au/event/current-series-the-names-of-god/
LOCATION:LifeChurch Maryborough\, 68 Gayndah Rd\, Maryborough West\, QLD\, 4650\, Australia
CATEGORIES:Children,Community,Life Chuch,Women,Youth
ATTACH;FMTTYPE=image/jpeg:https://life-church.org.au/wp-content/uploads/2019/07/Heroes-of-the-faith.jpg
END:VEVENT
BEGIN:VEVENT
DTSTART;VALUE=DATE:20190823
DTEND;VALUE=DATE:20190826
DTSTAMP:20260422T022156
CREATED:20190328T123959Z
LAST-MODIFIED:20190328T124256Z
UID:2206-1566518400-1566777599@life-church.org.au
SUMMARY:SOUTH QLD WESLEYAN WOMENS RETREAT
DESCRIPTION:At this National Womens Retreat you can expect to be educated\, inspired and blessed by praise sessions\, messages and workshops as well as some vital down time to refresh yourself or catch up with friends.
URL:https://life-church.org.au/event/south-qld-wesleyan-womens-retreat/
LOCATION:Sunshine Coast Recreation Centre\, 80 Currimundi Rd\, Currimundi\, QLD\, 4551\, Australia
CATEGORIES:Conference,Women
ATTACH;FMTTYPE=image/png:https://life-church.org.au/wp-content/uploads/2019/03/Retreat-400x566.png
END:VEVENT
BEGIN:VEVENT
DTSTART;TZID=Australia/Brisbane:20190512T100000
DTEND;TZID=Australia/Brisbane:20190512T113000
DTSTAMP:20260422T022156
CREATED:20190322T010607Z
LAST-MODIFIED:20190322T010644Z
UID:2198-1557655200-1557660600@life-church.org.au
SUMMARY:MOTHER'S DAY
DESCRIPTION:We want to honour our mothers on this special day. Join us as we thank God for the influence of our Mothers. Followed by a special morning tea.
URL:https://life-church.org.au/event/mothers-day/
LOCATION:LifeChurch Maryborough\, 68 Gayndah Rd\, Maryborough West\, QLD\, 4650\, Australia
CATEGORIES:Food,Life Chuch,Women
ATTACH;FMTTYPE=image/jpeg:https://life-church.org.au/wp-content/uploads/2019/03/Screen-Shot-2019-03-22-at-10.54.33-am.jpg
END:VEVENT
BEGIN:VEVENT
DTSTART;VALUE=DATE:20190316
DTEND;VALUE=DATE:20190317
DTSTAMP:20260422T022156
CREATED:20190124T053118Z
LAST-MODIFIED:20190124T072622Z
UID:2174-1552694400-1552780799@life-church.org.au
SUMMARY:Women Alive Conference
DESCRIPTION:Women Alive is a day conference for all women in the South Queensland District of the Wesleyan Methodist Church\, and their friends. \nMORE INFORMATION TO COME.
URL:https://life-church.org.au/event/women-alive-conference/
LOCATION:QLD
CATEGORIES:Conference,Life Chuch,Women
ATTACH;FMTTYPE=image/jpeg:https://life-church.org.au/wp-content/uploads/2019/01/IMG_0857.jpg
END:VEVENT
BEGIN:VEVENT
DTSTART;VALUE=DATE:20180824
DTEND;VALUE=DATE:20180827
DTSTAMP:20260422T022156
CREATED:20180213T062950Z
LAST-MODIFIED:20180213T062950Z
UID:1953-1535068800-1535327999@life-church.org.au
SUMMARY:RISE UP - National Women’s Retreat
DESCRIPTION:
URL:https://life-church.org.au/event/rise-up-national-womens-retreat/
LOCATION:Sunshine Coast Recreation Centre\, 80 Currimundi Rd\, Currimundi\, QLD\, 4551\, Australia
CATEGORIES:Women
ATTACH;FMTTYPE=image/jpeg:https://life-church.org.au/wp-content/uploads/2018/02/Womens-Retreat-Social-Media.jpg
END:VEVENT
BEGIN:VEVENT
DTSTART;VALUE=DATE:20180512
DTEND;VALUE=DATE:20180513
DTSTAMP:20260422T022156
CREATED:20180213T063708Z
LAST-MODIFIED:20180213T063708Z
UID:1958-1526083200-1526169599@life-church.org.au
SUMMARY:Women Alive
DESCRIPTION:
URL:https://life-church.org.au/event/women-alive/
LOCATION:LifeChurch\, 68 Gayndah Road\, Maryborough\, QLD\, 4560\, Australia
CATEGORIES:Women
ATTACH;FMTTYPE=image/jpeg:https://life-church.org.au/wp-content/uploads/2018/02/Women-Alive.jpg
END:VEVENT
END:VCALENDAR