BEGIN:VCALENDAR
VERSION:2.0
PRODID:-//LifeChurch - ECPv6.8.3//NONSGML v1.0//EN
CALSCALE:GREGORIAN
METHOD:PUBLISH
X-WR-CALNAME:LifeChurch
X-ORIGINAL-URL:https://life-church.org.au
X-WR-CALDESC:Events for LifeChurch
REFRESH-INTERVAL;VALUE=DURATION:PT1H
X-Robots-Tag:noindex
X-PUBLISHED-TTL:PT1H
BEGIN:VTIMEZONE
TZID:Australia/Brisbane
BEGIN:STANDARD
TZOFFSETFROM:+1000
TZOFFSETTO:+1000
TZNAME:AEST
DTSTART:20190101T000000
END:STANDARD
TZID:Australia/Melbourne
BEGIN:STANDARD
TZOFFSETFROM:+1100
TZOFFSETTO:+1000
TZNAME:AEST
DTSTART:20180331T160000
END:STANDARD
BEGIN:DAYLIGHT
TZOFFSETFROM:+1000
TZOFFSETTO:+1100
TZNAME:AEDT
DTSTART:20181006T160000
END:DAYLIGHT
END:VTIMEZONE
BEGIN:VEVENT
DTSTART;TZID=Australia/Brisbane:20190512T100000
DTEND;TZID=Australia/Brisbane:20190512T113000
DTSTAMP:20260422T041053
CREATED:20190322T010607Z
LAST-MODIFIED:20190322T010644Z
UID:2198-1557655200-1557660600@life-church.org.au
SUMMARY:MOTHER'S DAY
DESCRIPTION:We want to honour our mothers on this special day. Join us as we thank God for the influence of our Mothers. Followed by a special morning tea.
URL:https://life-church.org.au/event/mothers-day/
LOCATION:LifeChurch Maryborough\, 68 Gayndah Rd\, Maryborough West\, QLD\, 4650\, Australia
CATEGORIES:Food,Life Chuch,Women
ATTACH;FMTTYPE=image/jpeg:https://life-church.org.au/wp-content/uploads/2019/03/Screen-Shot-2019-03-22-at-10.54.33-am.jpg
END:VEVENT
BEGIN:VEVENT
DTSTART;VALUE=DATE:20190316
DTEND;VALUE=DATE:20190317
DTSTAMP:20260422T041053
CREATED:20190124T053118Z
LAST-MODIFIED:20190124T072622Z
UID:2174-1552694400-1552780799@life-church.org.au
SUMMARY:Women Alive Conference
DESCRIPTION:Women Alive is a day conference for all women in the South Queensland District of the Wesleyan Methodist Church\, and their friends. \nMORE INFORMATION TO COME.
URL:https://life-church.org.au/event/women-alive-conference/
LOCATION:QLD
CATEGORIES:Conference,Life Chuch,Women
ATTACH;FMTTYPE=image/jpeg:https://life-church.org.au/wp-content/uploads/2019/01/IMG_0857.jpg
END:VEVENT
BEGIN:VEVENT
DTSTART;VALUE=DATE:20180824
DTEND;VALUE=DATE:20180827
DTSTAMP:20260422T041053
CREATED:20180213T062950Z
LAST-MODIFIED:20180213T062950Z
UID:1953-1535068800-1535327999@life-church.org.au
SUMMARY:RISE UP - National Women’s Retreat
DESCRIPTION:
URL:https://life-church.org.au/event/rise-up-national-womens-retreat/
LOCATION:Sunshine Coast Recreation Centre\, 80 Currimundi Rd\, Currimundi\, QLD\, 4551\, Australia
CATEGORIES:Women
ATTACH;FMTTYPE=image/jpeg:https://life-church.org.au/wp-content/uploads/2018/02/Womens-Retreat-Social-Media.jpg
END:VEVENT
BEGIN:VEVENT
DTSTART;VALUE=DATE:20180512
DTEND;VALUE=DATE:20180513
DTSTAMP:20260422T041053
CREATED:20180213T063708Z
LAST-MODIFIED:20180213T063708Z
UID:1958-1526083200-1526169599@life-church.org.au
SUMMARY:Women Alive
DESCRIPTION:
URL:https://life-church.org.au/event/women-alive/
LOCATION:LifeChurch\, 68 Gayndah Road\, Maryborough\, QLD\, 4560\, Australia
CATEGORIES:Women
ATTACH;FMTTYPE=image/jpeg:https://life-church.org.au/wp-content/uploads/2018/02/Women-Alive.jpg
END:VEVENT
END:VCALENDAR