BEGIN:VCALENDAR
VERSION:2.0
PRODID:-//LifeChurch - ECPv6.8.3//NONSGML v1.0//EN
CALSCALE:GREGORIAN
METHOD:PUBLISH
X-WR-CALNAME:LifeChurch
X-ORIGINAL-URL:https://life-church.org.au
X-WR-CALDESC:Events for LifeChurch
REFRESH-INTERVAL;VALUE=DURATION:PT1H
X-Robots-Tag:noindex
X-PUBLISHED-TTL:PT1H
BEGIN:VTIMEZONE
TZID:Australia/Brisbane
BEGIN:STANDARD
TZOFFSETFROM:+1000
TZOFFSETTO:+1000
TZNAME:AEST
DTSTART:20190101T000000
END:STANDARD
TZID:Australia/Melbourne
BEGIN:STANDARD
TZOFFSETFROM:+1100
TZOFFSETTO:+1000
TZNAME:AEST
DTSTART:20180331T160000
END:STANDARD
BEGIN:DAYLIGHT
TZOFFSETFROM:+1000
TZOFFSETTO:+1100
TZNAME:AEDT
DTSTART:20181006T160000
END:DAYLIGHT
END:VTIMEZONE
BEGIN:VEVENT
DTSTART;TZID=Australia/Brisbane:20200821T190000
DTEND;TZID=Australia/Brisbane:20200821T210000
DTSTAMP:20260422T094848
CREATED:20200721T021659Z
LAST-MODIFIED:20200721T021659Z
UID:2456-1598036400-1598043600@life-church.org.au
SUMMARY:iGNiTE! //"A" Night\\ Friday 7pm
DESCRIPTION:Grades 7-12! 7pm – 9pm! All are Welcome! Click “Find out more” to see the Term Planner! \nIgnite is back on and IN – PERSON Every Friday during School Term!  This Term\, we have some fun and exciting activities planned\, as well as an awesome message each week from Pastor Caleb!  We can’t wait to see you! \n \n 
URL:https://life-church.org.au/event/ignite-a-night-friday-7pm/
LOCATION:LifeChurch\, 68 Gayndah Road\, Maryborough\, QLD\, 4560\, Australia
CATEGORIES:Community,Youth
ATTACH;FMTTYPE=image/jpeg:https://life-church.org.au/wp-content/uploads/2020/04/1.jpg
END:VEVENT
BEGIN:VEVENT
DTSTART;TZID=Australia/Brisbane:20200814T190000
DTEND;TZID=Australia/Brisbane:20200814T210000
DTSTAMP:20260422T094848
CREATED:20200721T021557Z
LAST-MODIFIED:20200721T021557Z
UID:2454-1597431600-1597438800@life-church.org.au
SUMMARY:iGNiTE! //Minute to Win It\\ Friday 7pm
DESCRIPTION:Grades 7-12! 7pm – 9pm! All are Welcome! Click “Find out more” to see the Term Planner! \nIgnite is back on and IN – PERSON Every Friday during School Term!  This Term\, we have some fun and exciting activities planned\, as well as an awesome message each week from Pastor Caleb!  We can’t wait to see you! \n \n 
URL:https://life-church.org.au/event/ignite-minute-to-win-it-friday-7pm/
LOCATION:LifeChurch\, 68 Gayndah Road\, Maryborough\, QLD\, 4560\, Australia
CATEGORIES:Community,Youth
ATTACH;FMTTYPE=image/jpeg:https://life-church.org.au/wp-content/uploads/2020/04/1.jpg
END:VEVENT
BEGIN:VEVENT
DTSTART;TZID=Australia/Brisbane:20200807T190000
DTEND;TZID=Australia/Brisbane:20200807T210000
DTSTAMP:20260422T094848
CREATED:20200721T021345Z
LAST-MODIFIED:20200721T021437Z
UID:2451-1596826800-1596834000@life-church.org.au
SUMMARY:iGNiTE! //Noche Fiesta\\ Friday 7pm
DESCRIPTION:Grades 7-12! 7pm – 9pm! All are Welcome! Click “Find out more” to see the Term Planner! \nIgnite is back on and IN – PERSON Every Friday during School Term!  This Term\, we have some fun and exciting activities planned\, as well as an awesome message each week from Pastor Caleb!  We can’t wait to see you! \n \n 
URL:https://life-church.org.au/event/ignite-noche-fiesta-friday-7pm/
LOCATION:LifeChurch\, 68 Gayndah Road\, Maryborough\, QLD\, 4560\, Australia
CATEGORIES:Community,Youth
ATTACH;FMTTYPE=image/jpeg:https://life-church.org.au/wp-content/uploads/2020/04/1.jpg
END:VEVENT
BEGIN:VEVENT
DTSTART;TZID=Australia/Brisbane:20200802T100000
DTEND;TZID=Australia/Brisbane:20200802T113000
DTSTAMP:20260422T094848
CREATED:20200721T040543Z
LAST-MODIFIED:20200721T040543Z
UID:2469-1596362400-1596367800@life-church.org.au
SUMMARY:Sunday (LifeKids + Morning Service + Prayer&Worship)
DESCRIPTION:Every Sunday during a School Term\, we have our Kids Program “LifeKids” @ 8:45a-10a \nWe have our Worship Service Every Sunday of the year @ 10a-11:30a. \n@ 6pm\, we hope to see you back at the church for our 1st Sunday of the Month Prayer & Worship Service! We are so excited to start doing these again as another way of coming back together!
URL:https://life-church.org.au/event/sunday-lifekids-morning-service-prayerworship/
LOCATION:LifeChurch\, 68 Gayndah Road\, Maryborough\, QLD\, 4560\, Australia
CATEGORIES:Children,Community,Family,Music,Outreach,Prayer,Worship,Youth
ATTACH;FMTTYPE=image/jpeg:https://life-church.org.au/wp-content/uploads/2020/07/Welcome-Back-1.jpg
END:VEVENT
BEGIN:VEVENT
DTSTART;TZID=Australia/Brisbane:20200731T190000
DTEND;TZID=Australia/Brisbane:20200731T210000
DTSTAMP:20260422T094848
CREATED:20200721T021159Z
LAST-MODIFIED:20200721T021159Z
UID:2448-1596222000-1596229200@life-church.org.au
SUMMARY:iGNiTE! //Underground Church\\ Friday 7pm
DESCRIPTION:Grades 7-12! 7pm – 9pm! All are Welcome! Click “Find out more” to see the Term Planner! \nIgnite is back on and IN – PERSON Every Friday during School Term!  This Term\, we have some fun and exciting activities planned\, as well as an awesome message each week from Pastor Caleb!  We can’t wait to see you! \n \n 
URL:https://life-church.org.au/event/ignite-underground-church-friday-7pm/
LOCATION:LifeChurch\, 68 Gayndah Road\, Maryborough\, QLD\, 4560\, Australia
CATEGORIES:Community,Youth
ATTACH;FMTTYPE=image/jpeg:https://life-church.org.au/wp-content/uploads/2020/04/1.jpg
END:VEVENT
BEGIN:VEVENT
DTSTART;TZID=Australia/Brisbane:20200726T100000
DTEND;TZID=Australia/Brisbane:20200726T113000
DTSTAMP:20260422T094848
CREATED:20200721T022647Z
LAST-MODIFIED:20200721T040204Z
UID:2466-1595757600-1595763000@life-church.org.au
SUMMARY:Sunday (LifeKids + Service)
DESCRIPTION:Every Sunday during a School Term\, we have our Kids Program “LifeKids” @ 8:45a-10a \nWe have our Worship Service Every Sunday of the year @ 10a-11:30a
URL:https://life-church.org.au/event/sunday-lifekids-service/
LOCATION:LifeChurch\, 68 Gayndah Road\, Maryborough\, QLD\, 4560\, Australia
CATEGORIES:Children,Community,Family,Music,Outreach,Prayer,Worship,Youth
ATTACH;FMTTYPE=image/jpeg:https://life-church.org.au/wp-content/uploads/2020/07/Welcome-Back-1.jpg
END:VEVENT
BEGIN:VEVENT
DTSTART;TZID=Australia/Brisbane:20200724T190000
DTEND;TZID=Australia/Brisbane:20200724T210000
DTSTAMP:20260422T094848
CREATED:20200721T020417Z
LAST-MODIFIED:20200721T021240Z
UID:2441-1595617200-1595624400@life-church.org.au
SUMMARY:iGNiTE! //Christmas in July\\ Friday 7pm
DESCRIPTION:Grades 7-12! 7pm – 9pm! All are Welcome! Click “Find out more” to see the Term Planner! \nIgnite is back on and IN – PERSON Every Friday during School Term!  This Term\, we have some fun and exciting activities planned\, as well as an awesome message each week from Pastor Caleb!  We can’t wait to see you! \n \n 
URL:https://life-church.org.au/event/ignite-every-friday-7pm/
LOCATION:LifeChurch\, 68 Gayndah Road\, Maryborough\, QLD\, 4560\, Australia
CATEGORIES:Community,Youth
ATTACH;FMTTYPE=image/jpeg:https://life-church.org.au/wp-content/uploads/2020/04/1.jpg
END:VEVENT
BEGIN:VEVENT
DTSTART;TZID=Australia/Brisbane:20200619T190000
DTEND;TZID=Australia/Brisbane:20200619T200000
DTSTAMP:20260422T094848
CREATED:20200414T052828Z
LAST-MODIFIED:20200527T050600Z
UID:2411-1592593200-1592596800@life-church.org.au
SUMMARY:Friday iGNiTE Youth
DESCRIPTION:Every Friday during a School Term\, iGNITE happens at 7pm!  For now\, we are creating fun interactive videos to go on YouTube and Facebook that premiere every Friday night at 7pm.  After the video on Friday\, we have a Zoom meeting for all the students who would like to connect!  We play games and share about life and at the end\, we pray for each other.  If you are a youth student and want to make sure you don’t miss a video- make sure to go to YouTube and search & subscribe to “Ignite Youth Maryborough”. You can also see our videos on our Facebook page @IgniteYouthMaryborough. \nemail caleb@life-church.org.au for the Zoom Meeting link.
URL:https://life-church.org.au/event/friday-ignite-youth/
LOCATION:@ Your Place
CATEGORIES:Youth
ATTACH;FMTTYPE=image/jpeg:https://life-church.org.au/wp-content/uploads/2020/04/1.jpg
END:VEVENT
BEGIN:VEVENT
DTSTART;TZID=Australia/Brisbane:20200614T100000
DTEND;TZID=Australia/Brisbane:20200614T113000
DTSTAMP:20260422T094848
CREATED:20200407T063005Z
LAST-MODIFIED:20200527T045636Z
UID:2368-1592128800-1592134200@life-church.org.au
SUMMARY:Sunday 10am Online Service
DESCRIPTION:LifeChurch Live @ Your Place! \nJoin us every Sunday on our Facebook Page “LifeChurch – Maryborough” or Youtube channel “LifeChurch Maryborough” for the service\, or follow the link below on your smartphone/tablet/laptop/desktop/tv to make sure you don’t miss anything! \nwww.life-church.org.au/watch
URL:https://life-church.org.au/event/sunday-10am-online-service-2/
LOCATION:@ Your Place
CATEGORIES:Children,Community,Family,Music,Prayer,Youth
ATTACH;FMTTYPE=image/jpeg:https://life-church.org.au/wp-content/uploads/2018/01/RobPreachBGR.jpg
END:VEVENT
BEGIN:VEVENT
DTSTART;TZID=Australia/Brisbane:20200612T190000
DTEND;TZID=Australia/Brisbane:20200612T200000
DTSTAMP:20260422T094848
CREATED:20200414T053715Z
LAST-MODIFIED:20200527T045527Z
UID:2416-1591988400-1591992000@life-church.org.au
SUMMARY:Friday iGNiTE Youth
DESCRIPTION:Every Friday during a School Term\, iGNITE happens at 7pm!  For now\, we are creating fun interactive videos to go on YouTube and Facebook that premiere every Friday night at 7pm.  After the video on Friday\, we have a Zoom meeting for all the students who would like to connect!  We play games and share about life and at the end\, we pray for each other.  If you are a youth student and want to make sure you don’t miss a video- make sure to go to YouTube and search & subscribe to “Ignite Youth Maryborough”. You can also see our videos on our Facebook page @IgniteYouthMaryborough. \nemail caleb@life-church.org.au for the Zoom Meeting link.
URL:https://life-church.org.au/event/friday-ignite-youth-2/
LOCATION:@ Your Place
CATEGORIES:Youth
ATTACH;FMTTYPE=image/jpeg:https://life-church.org.au/wp-content/uploads/2020/04/1.jpg
END:VEVENT
BEGIN:VEVENT
DTSTART;TZID=Australia/Brisbane:20200607T100000
DTEND;TZID=Australia/Brisbane:20200607T113000
DTSTAMP:20260422T094848
CREATED:20200407T062108Z
LAST-MODIFIED:20200527T043819Z
UID:2363-1591524000-1591529400@life-church.org.au
SUMMARY:Sunday 10am Online Service
DESCRIPTION:LifeChurch Live @ Your Place! \nJoin us every Sunday on our Facebook Page “LifeChurch – Maryborough” or Youtube channel “LifeChurch Maryborough” for the service\, or follow the link below on your smartphone/tablet/laptop/desktop/tv to make sure you don’t miss anything! \nwww.life-church.org.au/watch
URL:https://life-church.org.au/event/sunday-10am-service/
LOCATION:@ Your Place
CATEGORIES:Children,Community,Music,Prayer,Worship,Youth
ATTACH;FMTTYPE=image/jpeg:https://life-church.org.au/wp-content/uploads/2018/01/RobPreachBGR.jpg
END:VEVENT
BEGIN:VEVENT
DTSTART;TZID=Australia/Brisbane:20200605T190000
DTEND;TZID=Australia/Brisbane:20200605T200000
DTSTAMP:20260422T094848
CREATED:20200414T051633Z
LAST-MODIFIED:20200527T043924Z
UID:2405-1591383600-1591387200@life-church.org.au
SUMMARY:Friday iGNITE Youth
DESCRIPTION:Every Friday during a School Term\, iGNITE happens at 7pm!  For now\, we are creating fun interactive videos to go on YouTube and Facebook that premiere every Friday night at 7pm.  After the video on Friday\, we have a Zoom meeting for all the students who would like to connect!  We play games and share about life and at the end\, we pray for each other.  If you are a youth student and want to make sure you don’t miss a video- make sure to go to YouTube and search & subscribe to “Ignite Youth Maryborough”. You can also see our videos on our Facebook page @IgniteYouthMaryborough. \nemail caleb@life-church.org.au for the Zoom Meeting link.
URL:https://life-church.org.au/event/ignite-youth-group/
LOCATION:@ Your Place
CATEGORIES:Youth
ATTACH;FMTTYPE=image/jpeg:https://life-church.org.au/wp-content/uploads/2020/04/1.jpg
END:VEVENT
BEGIN:VEVENT
DTSTART;TZID=Australia/Brisbane:20200531T100000
DTEND;TZID=Australia/Brisbane:20200531T113000
DTSTAMP:20260422T094848
CREATED:20200407T062528Z
LAST-MODIFIED:20200527T043046Z
UID:2366-1590919200-1590924600@life-church.org.au
SUMMARY:Sunday 10am Online Service
DESCRIPTION:LifeChurch Live @ Your Place! \nJoin us every Sunday on our Facebook Page “LifeChurch – Maryborough” or Youtube channel “LifeChurch Maryborough” for the service\, or follow the link below on your smartphone/tablet/laptop/desktop/tv to make sure you don’t miss anything! \nwww.life-church.org.au/watch
URL:https://life-church.org.au/event/sunday-10am-online-service/
LOCATION:@ Your Place
CATEGORIES:Children,Community,Family,Music,Prayer,Youth
ATTACH;FMTTYPE=image/jpeg:https://life-church.org.au/wp-content/uploads/2018/01/RobPreachBGR.jpg
END:VEVENT
BEGIN:VEVENT
DTSTART;TZID=Australia/Brisbane:20200529T190000
DTEND;TZID=Australia/Brisbane:20200529T200000
DTSTAMP:20260422T094848
CREATED:20200414T052415Z
LAST-MODIFIED:20200527T043254Z
UID:2409-1590778800-1590782400@life-church.org.au
SUMMARY:Friday iGNiTE Youth
DESCRIPTION:Every Friday during a School Term\, iGNITE happens at 7pm!  For now\, we are creating fun interactive videos to go on YouTube and Facebook that premiere every Friday night at 7pm.  After the video on Friday\, we have a Zoom meeting for all the students who would like to connect!  We play games and share about life and at the end\, we pray for each other.  If you are a youth student and want to make sure you don’t miss a video- make sure to go to YouTube and search & subscribe to “Ignite Youth Maryborough”. You can also see our videos on our Facebook page @IgniteYouthMaryborough. \nemail caleb@life-church.org.au for the Zoom Meeting link.
URL:https://life-church.org.au/event/ignite-youth-group-2/
LOCATION:@ Your Place
CATEGORIES:Youth
ATTACH;FMTTYPE=image/jpeg:https://life-church.org.au/wp-content/uploads/2020/04/1.jpg
END:VEVENT
BEGIN:VEVENT
DTSTART;VALUE=DATE:20191020
DTEND;VALUE=DATE:20191125
DTSTAMP:20260422T094848
CREATED:20190708T064420Z
LAST-MODIFIED:20191018T065121Z
UID:2222-1571529600-1574639999@life-church.org.au
SUMMARY:CURRENT SERIES:  Heroes of the Faith
DESCRIPTION:Join us as we look at some unlikely heroes\, who although they faced opposition and obstacles\, had faith and were used by God in mighty ways. These are people like you and me who struggled but by the power of God\, prevailed. \n10am Sundays through October & November
URL:https://life-church.org.au/event/current-series-the-names-of-god/
LOCATION:LifeChurch Maryborough\, 68 Gayndah Rd\, Maryborough West\, QLD\, 4650\, Australia
CATEGORIES:Children,Community,Life Chuch,Women,Youth
ATTACH;FMTTYPE=image/jpeg:https://life-church.org.au/wp-content/uploads/2019/07/Heroes-of-the-faith.jpg
END:VEVENT
BEGIN:VEVENT
DTSTART;TZID=Australia/Brisbane:20190721T100000
DTEND;TZID=Australia/Brisbane:20190721T110000
DTSTAMP:20260422T094848
CREATED:20190708T064927Z
LAST-MODIFIED:20190708T065335Z
UID:2225-1563703200-1563706800@life-church.org.au
SUMMARY:GUEST SPEAKER: Reuben Yates
DESCRIPTION:We welcome back Reuben Yates\, our much loved Kiwi Youth Pastor from 2018\, and look forward to hearing what the Lord is doing with this young Christian leader.
URL:https://life-church.org.au/event/geust-speaker-reuben-yates/
LOCATION:LifeChurch Maryborough\, 68 Gayndah Rd\, Maryborough West\, QLD\, 4650\, Australia
CATEGORIES:Life Chuch,Youth
ATTACH;FMTTYPE=image/jpeg:https://life-church.org.au/wp-content/uploads/2019/07/26994376_1993564590882375_7431486321981572837_n.jpg
END:VEVENT
BEGIN:VEVENT
DTSTART;VALUE=DATE:20180708
DTEND;VALUE=DATE:20180714
DTSTAMP:20260422T094848
CREATED:20180213T064104Z
LAST-MODIFIED:20180213T064129Z
UID:1961-1531008000-1531526399@life-church.org.au
SUMMARY:South Queensland High School Camp
DESCRIPTION:Registrations opening soon.
URL:https://life-church.org.au/event/south-queensland-high-school-camp/
LOCATION:QCCC\, 70 Obi Obi Road\, Mapleton\, QLD\, 4560\, Australia
CATEGORIES:Youth
ATTACH;FMTTYPE=image/jpeg:https://life-church.org.au/wp-content/uploads/2018/02/highschoolcamp.jpg
END:VEVENT
END:VCALENDAR